BEGIN:VCALENDAR
VERSION:2.0
PRODID:-//wp-events-plugin.com//7.2.3.1//EN
TZID:Europe/London
X-WR-TIMEZONE:Europe/London
BEGIN:VEVENT
UID:1-12529@westbourneforum.org.uk
DTSTART;TZID=Europe/London:20240731T100000
DTEND;TZID=Europe/London:20240731T150000
DTSTAMP:20240710T020420Z
URL:https://westbourneforum.org.uk/events/edutain-haf-programme-2-2024-07-
 31/
SUMMARY:Edutain HAF Programme
DESCRIPTION:PLEASE NOTE: This project is part of the Holiday Activities &am
 p\; Food (HAF) Programme\, for young people in Westminster and Kensington 
 &amp\; Chelsea who are eligible for benefits-related Free School Meals*\n\
 nWe are delighted to have the opportunity to run the HAF programme at Acad
 emy Sports Centre\, W2 5EW.\n\nAcademy Sports Centre is a 'state of the ar
 t' facility equipped with a 9 a-side astro football pitch\, indoor sports 
 hall\, studio\, tennis and outdoor playground. We make the most of the fac
 ilities on offer by running a variety of multi-sport sessions and activiti
 es ranging from dodgeball\, cricket and dance just to name a few.\n\nThere
 's something for everyone if you're not sporty such as arts &amp\; craft\,
  quizzes and trips to the cinema/bowling. We are participant lead and welc
 ome the ideas of the young people as we want them to have as much say into
  THEIR programme as possible!\n\nCurious? Sign up and find out more.\n\nSE
 ND FRIENDLY\nWe have some training or experience of Special Educational Ne
 eds &amp\; Disabilities and are able to accommodate children with low-leve
 l needs\, we do not offer 1:1. Contact us to discuss how we can support yo
 ur child.\n\nBooking and Further Details\n\nsportwest.org.uk\n\nryan.denys
 @sportwestminster.org\n\n020 7871 3042
ATTACH;FMTTYPE=image/jpeg:https://i0.wp.com/westbourneforum.org.uk/wp-cont
 ent/uploads/2023/04/Picture1.webp?fit=800%2C445&ssl=1
LOCATION:Academy Sport\, Torquay Street\, London\, England\, W2 5EW\, Westm
 inster\, United Kingdom
GEO:51.520158;-0.19229
X-APPLE-STRUCTURED-LOCATION;VALUE=URI;X-ADDRESS=Torquay Street\, London\, E
 ngland\, W2 5EW\, Westminster\, United Kingdom;X-APPLE-RADIUS=100;X-TITLE=
 Academy Sport:geo:51.520158,-0.19229
ORGANIZER;CN="Westbourne Forum":MAILTO:westbourne-admin@westbourneforum.org.uk
END:VEVENT
BEGIN:VTIMEZONE
TZID:Europe/London
X-LIC-LOCATION:Europe/London
BEGIN:DAYLIGHT
DTSTART:20240331T020000
TZOFFSETFROM:+0000
TZOFFSETTO:+0100
TZNAME:BST
END:DAYLIGHT
END:VTIMEZONE
END:VCALENDAR