BEGIN:VCALENDAR
VERSION:2.0
PRODID:-//wp-events-plugin.com//7.2.3.1//EN
TZID:Europe/London
X-WR-TIMEZONE:Europe/London
BEGIN:VEVENT
UID:1-10946@westbourneforum.org.uk
DTSTART;TZID=Europe/London:20240405T100000
DTEND;TZID=Europe/London:20240405T150000
DTSTAMP:20240329T020421Z
URL:https://westbourneforum.org.uk/events/edutain-easter-programme-2024-04
 -05/
SUMMARY:Edutain Easter Programme
DESCRIPTION:PLEASE NOTE: This project is part of the Holiday Activities &a
 mp\; Food (HAF) Programme\, for young people in Westminster and Kensington
  &amp\; Chelsea who are eligible for benefits-related Free School Meals*\
 n\nWe are delighted to have the opportunity to run the HAF programme at Ac
 ademy Sports Centre\, W2 5EW. Academy Sports Centre is a 'state of the art
 ' facility equipped with a 9 a-side astro football pitch\, indoor sports h
 all\, studio\, tennis and outdoor playground.\n\nWe make the most of the f
 acilities on offer by running a variety of multi-sport sessions and activi
 ties ranging from dodgeball\, cricket and dance just to name a few. There'
 s something for everyone if you're not sporty such as arts &amp\; craft\, 
 quizzes and trips to the cinema/bowling.\n\nWe are participant lead and we
 lcome the ideas of the young people as we want them to have as much say in
 to THEIR programme as possible!\n\nAges 8 - 13\n\n\nAny questions about th
 e project?\nCall 0207 871 3042 or email us at ryan.denys@sportwestminst
 er.org\n\nCurious? Sign up and find out more\n\nFurther Details\n\nBOOK YO
 UR PLACE\n\nsportwest.org.uk\n\n
ATTACH;FMTTYPE=image/jpeg:https://i0.wp.com/westbourneforum.org.uk/wp-cont
 ent/uploads/2023/04/Picture1.webp?fit=800%2C445&ssl=1
LOCATION:Academy Sport\, Torquay Street\, London\, England\, W2 5EW\, Westm
 inster\, United Kingdom
GEO:51.520158;-0.19229
X-APPLE-STRUCTURED-LOCATION;VALUE=URI;X-ADDRESS=Torquay Street\, London\, E
 ngland\, W2 5EW\, Westminster\, United Kingdom;X-APPLE-RADIUS=100;X-TITLE=
 Academy Sport:geo:51.520158,-0.19229
ORGANIZER;CN="Westbourne Forum":MAILTO:westbourne-admin@westbourneforum.org.uk
END:VEVENT
BEGIN:VTIMEZONE
TZID:Europe/London
X-LIC-LOCATION:Europe/London
BEGIN:DAYLIGHT
DTSTART:20240331T020000
TZOFFSETFROM:+0000
TZOFFSETTO:+0100
TZNAME:BST
END:DAYLIGHT
END:VTIMEZONE
END:VCALENDAR