BEGIN:VCALENDAR
VERSION:2.0
PRODID:-//wp-events-plugin.com//7.2.3.1//EN
TZID:Europe/London
X-WR-TIMEZONE:Europe/London
BEGIN:VEVENT
UID:1-10939@westbourneforum.org.uk
DTSTART;TZID=Europe/London:20240404T095000
DTEND;TZID=Europe/London:20240404T140000
DTSTAMP:20240328T205135Z
URL:https://westbourneforum.org.uk/events/easter-street-dance-camp-for-kid
 s-teens-2024-04-04/
SUMMARY:Easter Street Dance Camp For Kids & Teens
DESCRIPTION:Providing the best quality street dance in the UK with a French
  touch!\n\nWe teach all our students how to become dancers\, dance teacher
 s\, and choreographers!\n\nOur teachers specialise in all street dance sty
 les from Hip Hop\, Popping\, Locking\, House\, Breakdancing\, Lite feet\, 
 Commercial\, and Afro dances to name a few...\n\nChildren and young people
  will explore all the different street dance styles. The top dancers/teach
 ers from USDD Networks will come to give workshops each day in a different
  style. Participants will have the ability to meet professional dancers an
 d ask them questions throughout the day. At the end of the day\, participa
 nts will obtain a certificate of achievement for what they have learned.\n
 \nOutcomes:\nConfidence building\nSocial and interpersonal skills team bui
 lding\nHealthy food and nutritional values\n\nNote: Some days may already 
 have a waiting list. Once you have booked your space\, a member of our tea
 m will contact you via call or text to confirm your booking. Always wait t
 o be contacted before coming to the venue.\n\nCoaches: Lexi Maize / Kayo /
  Philly\n(All our coaches are DBS checked)\n\nNearest bus stop: Sutherland
  Avenue\nNearest tube stop: Warwick Avenue\n\nAge Category: 7 - 15 years o
 ld\n\nGender: Mixed\n\nClothes: Comfortable\, jogger\, tracksuit\, legging
 s\n\nNo shorts\n\nBring water\n\n-----------------------------------------
 -------------------------\n\nParticipants arrival : 9.50am\n\nThe workshop
  will start at 10 am and finish at 2.00 pm each day\n\nLunch will be provi
 ded\, if you have any dietary requirements please do let us know as soon a
 s possible.\n\nWe also advise parents to bring snacks for their children j
 ust in case they do not fancy the food.\n\nCurrently\, all our venues have
  been tailored to be COVID-compliant and will take place in a safe environ
 ment.\n\nCost: FREE for FSM-eligible families or £25 per day (payable at 
 the venue)\n\nBooking and further details\n\nBook your space today to secu
 re your space\, for more info contact 075 1319 2618 or email info@usddacad
 emy.co.uk\n\nWe hope to see you soon :)\n\n\n
ATTACH;FMTTYPE=image/jpeg:https://i0.wp.com/westbourneforum.org.uk/wp-cont
 ent/uploads/2024/03/Easter-Street-Dance-Camp-For-Kids-Teens-banner.webp?fi
 t=800%2C445&ssl=1
LOCATION:The Amadeus\, 50 Shirland Road\, London\, England\, W9 2JA\, Westm
 inster\, United Kingdom
GEO:51.524414;-0.189705
X-APPLE-STRUCTURED-LOCATION;VALUE=URI;X-ADDRESS=50 Shirland Road\, London\,
  England\, W9 2JA\, Westminster\, United Kingdom;X-APPLE-RADIUS=100;X-TITL
 E=The Amadeus:geo:51.524414,-0.189705
ORGANIZER;CN="Westbourne Forum":MAILTO:westbourne-admin@westbourneforum.org.uk
END:VEVENT
BEGIN:VTIMEZONE
TZID:Europe/London
X-LIC-LOCATION:Europe/London
BEGIN:DAYLIGHT
DTSTART:20240331T020000
TZOFFSETFROM:+0000
TZOFFSETTO:+0100
TZNAME:BST
END:DAYLIGHT
END:VTIMEZONE
END:VCALENDAR