BEGIN:VCALENDAR
VERSION:2.0
PRODID:-//wp-events-plugin.com//7.2.3.1//EN
TZID:Europe/London
X-WR-TIMEZONE:Europe/London
BEGIN:VEVENT
UID:1-20964@westbourneforum.org.uk
DTSTART;TZID=Europe/London:20260407T103000
DTEND;TZID=Europe/London:20260407T153000
DTSTAMP:20260311T205640Z
URL:https://westbourneforum.org.uk/events/easter-holidays-2026-2-2026-04-0
 7/
SUMMARY:Easter Holidays 2026
DESCRIPTION:\n\nPLEASE NOTE: This project is part of the Holiday Activitie
 s &amp\; Food (HAF) Programme\, for young people in Westminster and Kensin
 gton &amp\; Chelsea who are eligible for benefits-related Free School Mea
 ls*\n\n&#x1f423\; Little Wormwood Scrubs Adventure Playground is open duri
 ng the Easter Holidays 10.30 am - 3.30 pm with a fun-packed Easter play pr
 ogramme!\n\nCome along and join in the Easter activities that will include
  sports\, games\, adventure play\, cooking\, creative activities\, goats a
 nd much more!\n\nLunch will be provided daily at 1 pm and snacks will be p
 rovided during the morning and afternoon.\n\nPlease note that all children
  must be registered and children under 8 years are not allowed to leave wi
 thout an appropriate adult\, those over 8 years must have parental permiss
 ion to leave by themselves.\n\nAges 5 - 15.\n\nWe have some support availa
 ble for children with &#x1f33b\;SEND&#x1f33b\;. Please speak to staff.\n\n
 No need to book - Go to the activity when it is available.\n\nFurther deta
 ils.
ATTACH;FMTTYPE=image/jpeg:https://i0.wp.com/westbourneforum.org.uk/wp-cont
 ent/uploads/2024/05/Easter-Holidays-2026-at-Little-Wormwood-Scrubs-Adventu
 re-Playground.webp?fit=1280%2C712&ssl=1
LOCATION:Little Wormwood Scrubs Adventure Playground\, Dalgarno Gardens\, K
 ensington and Chelsea\, London\, W10 5LL\, England\, United Kingdom
GEO:51.521744;-0.228311
X-APPLE-STRUCTURED-LOCATION;VALUE=URI;X-ADDRESS=Dalgarno Gardens\, Kensingt
 on and Chelsea\, London\, W10 5LL\, England\, United Kingdom;X-APPLE-RADIU
 S=100;X-TITLE=Little Wormwood Scrubs Adventure Playground:geo:51.521744,-0
 .228311
ORGANIZER;CN="Westbourne Forum":MAILTO:westbourne-admin@westbourneforum.org.uk
END:VEVENT
BEGIN:VTIMEZONE
TZID:Europe/London
X-LIC-LOCATION:Europe/London
BEGIN:DAYLIGHT
DTSTART:20260329T020000
TZOFFSETFROM:+0000
TZOFFSETTO:+0100
TZNAME:BST
END:DAYLIGHT
END:VTIMEZONE
END:VCALENDAR