BEGIN:VCALENDAR
VERSION:2.0
PRODID:-//wp-events-plugin.com//7.2.3.1//EN
TZID:Europe/London
X-WR-TIMEZONE:Europe/London
BEGIN:VEVENT
UID:1-10956@westbourneforum.org.uk
DTSTART;TZID=Europe/London:20240303T100000
DTEND;TZID=Europe/London:20240303T150000
DTSTAMP:20240329T015029Z
URL:https://westbourneforum.org.uk/events/easter-football-camp-with-blooms
 bury-2024-03-03/
SUMMARY:Easter Football Camp With Bloomsbury
DESCRIPTION:PLEASE NOTE: This project is part of the Holiday Activities &a
 mp\; Food (HAF) Programme\, for young people in Westminster and Kensington
  &amp\; Chelsea who are eligible for benefits-related Free School Meals*\
 n\nBloomsbury’s Easter Football Camp is back for 2023! We aim to offer a
  fun and inclusive camp for kids of all skill levels to stay physically ac
 tive while having fun over the easter holiday. Each day of camp focuses on
  a different fundamental skill (ie. dribbling\, passing\, defending\, shoo
 ting) with the week culminating in a tournament day on the final day.\n\nA
 s with our previous camps\, a free nutritionally complete meal will be pro
 vided at lunch time!\n\nIn addition to our standard football offering we a
 lso have a number of fun and impactful experiences ranging from football-b
 ased art workshops to mental wellbeing discussions with professional footb
 allers.\n\n**IMPORTANT HAF INFORMATION**:\n\nIf your child is eligible for
  income-based free school meals (pupil premium) and live in Westminster\, 
 you can sign up for free using the code “easterfsm” at checkout.\n\nIf
  your child is not eligible for this offer\, the camp costs £50 per day b
 ut there is financial assistance of up to 90% available.\n\nAges 7 - 15\n\
 nSEND Friendly\nWe offer some 1:1 support for children with Special Educat
 ional Needs &amp\; Disabilities at this programme. Contact us to discuss h
 ow we can support your child.\n\nAny questions about the project?\nCall 0
 7724 608600 or email us at holidays@bloomsburyfootball.com\n\nBOOK YOUR 
 PLACE\n\nFurther Details
ATTACH;FMTTYPE=image/jpeg:https://i0.wp.com/westbourneforum.org.uk/wp-cont
 ent/uploads/2024/03/Easter-Football-Camp-%40-Harris-Academy-St.-Johns-Wood
 -banner.webp?fit=800%2C445&ssl=1
LOCATION:Harris Academy - St. John's Wood\, St. John’s Wood\, Marlborough
  Hill\, London\, England\, NW8 0NL\, Westminster\, United Kingdom
GEO:51.537835;-0.176685
X-APPLE-STRUCTURED-LOCATION;VALUE=URI;X-ADDRESS=St. John’s Wood\, Marlbor
 ough Hill\, London\, England\, NW8 0NL\, Westminster\, United Kingdom;X-AP
 PLE-RADIUS=100;X-TITLE=Harris Academy - St. John's Wood:geo:51.537835,-0.1
 76685
ORGANIZER;CN="Westbourne Forum":MAILTO:westbourne-admin@westbourneforum.org.uk
END:VEVENT
BEGIN:VTIMEZONE
TZID:Europe/London
X-LIC-LOCATION:Europe/London
BEGIN:STANDARD
DTSTART:20231029T010000
TZOFFSETFROM:+0100
TZOFFSETTO:+0000
TZNAME:GMT
END:STANDARD
END:VTIMEZONE
END:VCALENDAR