BEGIN:VCALENDAR
VERSION:2.0
PRODID:-//wp-events-plugin.com//7.2.3.1//EN
TZID:Europe/London
X-WR-TIMEZONE:Europe/London
BEGIN:VEVENT
UID:1-16936@westbourneforum.org.uk
DTSTART;TZID=Europe/London:20250421T170000
DTEND;TZID=Europe/London:20250421T200000
DTSTAMP:20250328T044302Z
URL:https://westbourneforum.org.uk/events/easter-enrichment-2025-04-21/
SUMMARY:Easter Enrichment
DESCRIPTION:\n\nEaster Holidays Enrichment at Mo1 Youths Charity.\n\nTrips\
 , Activities and Food during Easter Holidays.\n\nAt 2 Thorpe Close\, W10 5
 XL. From 5 pm - 8 pm.\n\nAges 5 - 25\n\nPlease fill the registration form 
 to receive more information on trips.\n\nSEND friendly\nWe have some train
 ing or experience of Special Educational Needs &amp\; Disabilities and are
  able to accommodate children with low-level needs\, we do not offer 1:1. 
 Contact us to discuss how we can support your child.\n\nBooking and furthe
 r details\n\nmo1youths.com\n07753177748\nmo1youths@gmail.com
ATTACH;FMTTYPE=image/jpeg:https://i0.wp.com/westbourneforum.org.uk/wp-cont
 ent/uploads/2025/03/Easter-Enrichment-banner.webp?fit=800%2C445&ssl=1
LOCATION:Westway Trust\, 2 Thorpe Close\, London\, England\, W10 5XL\, Kens
 ington and Chelsea\, United Kingdom
GEO:51.518171;-0.208935
X-APPLE-STRUCTURED-LOCATION;VALUE=URI;X-ADDRESS=2 Thorpe Close\, London\, E
 ngland\, W10 5XL\, Kensington and Chelsea\, United Kingdom;X-APPLE-RADIUS=
 100;X-TITLE=Westway Trust:geo:51.518171,-0.208935
ORGANIZER;CN="Westbourne Forum":MAILTO:westbourne-admin@westbourneforum.org.uk
END:VEVENT
BEGIN:VTIMEZONE
TZID:Europe/London
X-LIC-LOCATION:Europe/London
BEGIN:DAYLIGHT
DTSTART:20250330T020000
TZOFFSETFROM:+0000
TZOFFSETTO:+0100
TZNAME:BST
END:DAYLIGHT
END:VTIMEZONE
END:VCALENDAR