BEGIN:VCALENDAR
VERSION:2.0
PRODID:-//wp-events-plugin.com//7.2.3.1//EN
TZID:Europe/London
X-WR-TIMEZONE:Europe/London
BEGIN:VEVENT
UID:1-5703@westbourneforum.org.uk
DTSTART;TZID=Europe/London:20230414T100000
DTEND;TZID=Europe/London:20230414T140000
DTSTAMP:20230404T170554Z
URL:https://westbourneforum.org.uk/events/easter-cricket-camp-2023-04-14/
SUMMARY:Easter Cricket Camp
DESCRIPTION:PLEASE NOTE: This project is part of the Holiday Activities &am
 p\; Food (HAF) Programme\, for young people in Westminster and Kensington 
 &amp\; Chelsea who are eligible for Free School Meals.*\n\nThe programme i
 s around taking part in cricket coaching activities and games. Children wi
 ll learn the basic fundamental movement skills related to the game of cric
 ket as well as the skills of cricket including batting\, bowling and field
 ing. The programme is FREE for Children who are eligible for Free School M
 eals and as part of the camp we will provide a meal for all children.\n\nD
 etails of free meal provided: Hot meals with vegetarian options.\n\nVenue 
 name and address: Paddington Recreation Ground\, Randolph Ave\, London W9 
 1PF\n\nNearest bus stop: Hansel Road (MV) or (MC)\nNearest tube stop: Maid
 a Vale\n\nContact email: shakeel.ahmed@ckc.london\nContact phone number: 0
 7742 432 520\n\n*Cost for non-Free School Meals Children and Young People:
  £5\n\nBooking required\n\nAges: 8 - 15\n\nActivity by: Capital Kids Cric
 ket
ATTACH;FMTTYPE=image/jpeg:https://i0.wp.com/westbourneforum.org.uk/wp-cont
 ent/uploads/2023/04/Easter-Cricket-Camp-header.jpg?fit=800%2C445&ssl=1
LOCATION:Paddington Recreation Ground\, Maida Vale\, Westminster\, London\,
  W9 1PD\, England\, United Kingdom
GEO:51.530491;-0.191394
X-APPLE-STRUCTURED-LOCATION;VALUE=URI;X-ADDRESS=Maida Vale\, Westminster\, 
 London\, W9 1PD\, England\, United Kingdom;X-APPLE-RADIUS=100;X-TITLE=Padd
 ington Recreation Ground:geo:51.530491,-0.191394
ORGANIZER;CN="Westbourne Forum":MAILTO:westbourne-admin@westbourneforum.org.uk
END:VEVENT
BEGIN:VTIMEZONE
TZID:Europe/London
X-LIC-LOCATION:Europe/London
BEGIN:DAYLIGHT
DTSTART:20230326T020000
TZOFFSETFROM:+0000
TZOFFSETTO:+0100
TZNAME:BST
END:DAYLIGHT
END:VTIMEZONE
END:VCALENDAR