BEGIN:VCALENDAR
VERSION:2.0
PRODID:-//wp-events-plugin.com//7.2.3.1//EN
TZID:Europe/London
X-WR-TIMEZONE:Europe/London
BEGIN:VEVENT
UID:1-5719@westbourneforum.org.uk
DTSTART;TZID=Europe/London:20230404T100000
DTEND;TZID=Europe/London:20230404T140000
DTSTAMP:20230404T172555Z
URL:https://westbourneforum.org.uk/events/easter-camp-2023-2-2023-04-04/
SUMMARY:Easter Camp 2023
DESCRIPTION:PLEASE NOTE: This project is part of the Holiday Activities &am
 p\; Food (HAF) Programme\, for young people in Westminster who are eligibl
 e for Free School Meals.*\n\nAction packed holiday camps coming to your lo
 cal venue this Easter!\n\nWhether you would like to ensure your kids stay 
 active this holiday\, looking for a fun and social holiday provision where
  they can express and share their excitement with Junior Adventures Group 
 will take care of a full day of pulse-raising activity for your child.\n\n
 Delivered by a passionate team of sport experts\, Junior Adventures Group 
 will ensure each day is filled with opportunities to create unforgettable 
 memories in a fun and active environment! Children will have the opportuni
 ty to:\n- keep active with a wide range of option\n- build confidence thro
 ugh learning new skills\n- enjoy positive social interaction experiences w
 ith friends in a safe environment\n- discover new activities delivered by 
 expert play leaders\n- enhance wellbeing through promoting happiness\, min
 dfulness and kindness\n\nDetails of free meal provided: This season childr
 en will receive snacks such as Popcorn\, Yogurt coated fruit bites\, Chees
 e strings and Fruit is always available throughout the day. Children will 
 also receive a nutritious Lunch such as:\n- Chilli &amp\; rice (veggie chi
 lli)\n- Jacket potato\, beans &amp\; Cheese\n- Meatball pasta &amp\; veggi
 es\n\nVenue name and address:\nQueen Mother Sports Centre – 223 Vauxhall
  Bridge Pimlico\, Westminster SW1V 1EL\nSeymour Leisure centre – Seymour
  Place W1H 5TJ\n\nNearest tube stop:\nQueen Mother Sports Centre- Victoria
  Station\nSeymour Leisure centre- Edgware Road\n\nContact email: hello@JAG
 .co.uk\nContact phone number: 0333 577 1533\n\nBooking required\n\n**ALL B
 OOKINGS ARE MADE VIA OUR ONLINE BOOKING SYSTEM. PLEASE USE THE FOLLOWING H
 AF CODES TO BOOK**\n\nQueen Mother: HAFQUEENET23\nSeymour: HAFSEYMET23\n\n
 Ages: 5 - 11\n\nActivity by: Junior Adventures Group
ATTACH;FMTTYPE=image/jpeg:https://i0.wp.com/westbourneforum.org.uk/wp-cont
 ent/uploads/2023/04/hula-hoop-shot-with-coach-jag-092-header.webp?fit=800%
 2C445&ssl=1
LOCATION:Queen Mother Sports Centre\, 223 Vauxhall Bridge Road\, London\, E
 ngland\, SW1V 1EL\, Westminster\, United Kingdom
GEO:51.493701;-0.14052
X-APPLE-STRUCTURED-LOCATION;VALUE=URI;X-ADDRESS=223 Vauxhall Bridge Road\, 
 London\, England\, SW1V 1EL\, Westminster\, United Kingdom;X-APPLE-RADIUS=
 100;X-TITLE=Queen Mother Sports Centre:geo:51.493701,-0.14052
ORGANIZER;CN="Westbourne Forum":MAILTO:westbourne-admin@westbourneforum.org.uk
END:VEVENT
BEGIN:VTIMEZONE
TZID:Europe/London
X-LIC-LOCATION:Europe/London
BEGIN:DAYLIGHT
DTSTART:20230326T020000
TZOFFSETFROM:+0000
TZOFFSETTO:+0100
TZNAME:BST
END:DAYLIGHT
END:VTIMEZONE
END:VCALENDAR