BEGIN:VCALENDAR
VERSION:2.0
PRODID:-//wp-events-plugin.com//7.2.3.1//EN
TZID:Europe/London
X-WR-TIMEZONE:Europe/London
BEGIN:VEVENT
UID:1-8658@westbourneforum.org.uk
DTSTART;TZID=Europe/London:20231023T130000
DTEND;TZID=Europe/London:20231023T150000
DTSTAMP:20231024T000205Z
URL:https://westbourneforum.org.uk/events/dodge-the-laziness-free-dodge-ba
 ll-games/
SUMMARY:Dodge The Laziness - free dodge ball games
DESCRIPTION:
ATTACH;FMTTYPE=image/jpeg:https://i0.wp.com/westbourneforum.org.uk/wp-cont
 ent/uploads/2023/10/Free-dodgeball-games-banner.webp?fit=800%2C445&ssl=1
LOCATION:Lisson Green Estate Community Hall\, Lilestone Street\, London\, E
 ngland\, NW8 8SR\, Westminster\, United Kingdom
GEO:51.525228;-0.166276
X-APPLE-STRUCTURED-LOCATION;VALUE=URI;X-ADDRESS=Lilestone Street\, London\,
  England\, NW8 8SR\, Westminster\, United Kingdom;X-APPLE-RADIUS=100;X-TIT
 LE=Lisson Green Estate Community Hall:geo:51.525228,-0.166276
ORGANIZER;CN="Westbourne Forum":MAILTO:westbourne-admin@westbourneforum.org.uk
END:VEVENT
BEGIN:VTIMEZONE
TZID:Europe/London
X-LIC-LOCATION:Europe/London
BEGIN:DAYLIGHT
DTSTART:20230326T020000
TZOFFSETFROM:+0000
TZOFFSETTO:+0100
TZNAME:BST
END:DAYLIGHT
END:VTIMEZONE
END:VCALENDAR