BEGIN:VCALENDAR
VERSION:2.0
PRODID:-//wp-events-plugin.com//7.2.3.1//EN
TZID:Europe/London
X-WR-TIMEZONE:Europe/London
BEGIN:VEVENT
UID:1-21264@westbourneforum.org.uk
DTSTART;TZID=Europe/London:20260527T160000
DTEND;TZID=Europe/London:20260527T180000
DTSTAMP:20260415T175811Z
URL:https://westbourneforum.org.uk/events/dodge-ball-free-sessions-2-2026-
 04-15-2026-04-22-2026-04-29-2026-05-06-2026-05-13-2026-05-20-2026-05-27/
SUMMARY:Dodge Ball - Free Sessions
DESCRIPTION:\n\n&#x1f31f\; Free weekly dodgeball sessions for children &amp
 \; young people in our community!\n\nCome\, play\, and have fun! &#x1f3d0\
 ;&#x2728\;\n\n&#x1f6a8\; See you all\n\n07777 113 813\n\n
ATTACH;FMTTYPE=image/jpeg:https://i0.wp.com/westbourneforum.org.uk/wp-cont
 ent/uploads/2025/10/Dodge-Ball-Free-Sessions-banner.webp?fit=1130%2C629&ss
 l=1
LOCATION:Feathers Marylebone\,  12 Rossmore Road\, London\, England\, NW1 6
 NX\, Westminster\, United Kingdom
GEO:51.5248;-0.164837
X-APPLE-STRUCTURED-LOCATION;VALUE=URI;X-ADDRESS= 12 Rossmore Road\, London\
 , England\, NW1 6NX\, Westminster\, United Kingdom;X-APPLE-RADIUS=100;X-TI
 TLE=Feathers Marylebone:geo:51.5248,-0.164837
ORGANIZER;CN="Westbourne Forum":MAILTO:westbourne-admin@westbourneforum.org.uk
END:VEVENT
BEGIN:VTIMEZONE
TZID:Europe/London
X-LIC-LOCATION:Europe/London
BEGIN:DAYLIGHT
DTSTART:20260329T020000
TZOFFSETFROM:+0000
TZOFFSETTO:+0100
TZNAME:BST
END:DAYLIGHT
END:VTIMEZONE
END:VCALENDAR