BEGIN:VCALENDAR
VERSION:2.0
PRODID:-//wp-events-plugin.com//7.2.3.1//EN
TZID:Europe/London
X-WR-TIMEZONE:Europe/London
BEGIN:VEVENT
UID:1-19825@westbourneforum.org.uk
DTSTART;TZID=Europe/London:20251022T130000
DTEND;TZID=Europe/London:20251022T150000
DTSTAMP:20251021T032523Z
URL:https://westbourneforum.org.uk/events/diwali-the-festival-of-lights/
SUMMARY:Diwali - The Festival Of Lights
DESCRIPTION:\n\nsadiya@pdt.org.uk\n\n07394 685 968\n\n
ATTACH;FMTTYPE=image/jpeg:https://i0.wp.com/westbourneforum.org.uk/wp-cont
 ent/uploads/2025/10/Diwali-Maida-Hill-banner.webp?fit=1065%2C592&ssl=1
LOCATION:Maida Hill Market\, Fernhead Road\, London\, England\, W9 3ET\, We
 stminster\, United Kingdom
GEO:51.524409;-0.201458
X-APPLE-STRUCTURED-LOCATION;VALUE=URI;X-ADDRESS=Fernhead Road\, London\, En
 gland\, W9 3ET\, Westminster\, United Kingdom;X-APPLE-RADIUS=100;X-TITLE=M
 aida Hill Market:geo:51.524409,-0.201458
ORGANIZER;CN="Westbourne Forum":MAILTO:westbourne-admin@westbourneforum.org.uk
END:VEVENT
BEGIN:VTIMEZONE
TZID:Europe/London
X-LIC-LOCATION:Europe/London
BEGIN:DAYLIGHT
DTSTART:20250330T020000
TZOFFSETFROM:+0000
TZOFFSETTO:+0100
TZNAME:BST
END:DAYLIGHT
END:VTIMEZONE
END:VCALENDAR