BEGIN:VCALENDAR
VERSION:2.0
PRODID:-//wp-events-plugin.com//7.2.3.1//EN
TZID:Europe/London
X-WR-TIMEZONE:Europe/London
BEGIN:VEVENT
UID:1-6056@westbourneforum.org.uk
DTSTART;TZID=Europe/London;VALUE=DATE:20230621
DTEND;TZID=Europe/London;VALUE=DATE:20230622
DTSTAMP:20230529T195036Z
URL:https://westbourneforum.org.uk/events/disrupt-your-everyday/
SUMMARY:Disrupt Your Everyday
DESCRIPTION:&nbsp\;\n\nThe Soho Poly is setting a challenge to all business
 es\, communities\, and organisations: give over a bit of your normal worki
 ng day ( Whatever 'normal is for you ) to something creative.\n\nIt's all 
 about championing and celebrating the creativity all of us have already! I
 've attached the flyer with more information\, but please do get in touch 
 if you'd like to talk further.\n\nIt doesn't matter what you do or how lon
 g for - even if it's one person for one minute in the day! The challenge i
 s to get as many people involved as possible\, and make some creative disc
 overies as part of the everyday. We'll be sharing everyone's posts and pic
 tures tagged #DisruptYourEveryday and #thesohopoly across our social media
  channels all day\, creating publicity for every enterprise getting involv
 ed as champions of creativity.\n\n
ATTACH;FMTTYPE=image/jpeg:https://i0.wp.com/westbourneforum.org.uk/wp-cont
 ent/uploads/2023/05/SohoPoly_DisruptionFlyer-header.webp?fit=800%2C445&ssl
 =1
LOCATION:Soho Poly\,  16 Riding House St\, London\, England\, W1W 7DT\, Wes
 tminster\, United Kingdom
GEO:51.518421;-0.141603
X-APPLE-STRUCTURED-LOCATION;VALUE=URI;X-ADDRESS= 16 Riding House St\, Londo
 n\, England\, W1W 7DT\, Westminster\, United Kingdom;X-APPLE-RADIUS=100;X-
 TITLE=Soho Poly:geo:51.518421,-0.141603
ORGANIZER;CN="Westbourne Forum":MAILTO:westbourne-admin@westbourneforum.org.uk
END:VEVENT
BEGIN:VTIMEZONE
TZID:Europe/London
X-LIC-LOCATION:Europe/London
BEGIN:DAYLIGHT
DTSTART:20230326T020000
TZOFFSETFROM:+0000
TZOFFSETTO:+0100
TZNAME:BST
END:DAYLIGHT
END:VTIMEZONE
END:VCALENDAR