BEGIN:VCALENDAR
VERSION:2.0
PRODID:-//wp-events-plugin.com//7.2.3.1//EN
TZID:Europe/London
X-WR-TIMEZONE:Europe/London
BEGIN:VEVENT
UID:1-13811@westbourneforum.org.uk
DTSTART;TZID=Europe/London:20241015T123000
DTEND;TZID=Europe/London:20241015T150000
DTSTAMP:20250413T182432Z
URL:https://westbourneforum.org.uk/events/dance-westminster-grand-final/
SUMMARY:Dance Westminster - Grand Final
DESCRIPTION:\n\n020 7641 2012\n\nactive@westminster.gov.uk\n\nactive.westmi
 nster.gov.uk/dance-westminster\n\nBook Your Free Tickets\n\n&nbsp\;\n\n
ATTACH;FMTTYPE=image/jpeg:https://i0.wp.com/westbourneforum.org.uk/wp-cont
 ent/uploads/2024/07/Dance-Westminster-banner.webp?fit=1448%2C806&ssl=1
LOCATION:Porchester Hall\, Porchester Road\, London\, England\, W2 5HS\, We
 stminster\, United Kingdom
GEO:51.517331;-0.188468
X-APPLE-STRUCTURED-LOCATION;VALUE=URI;X-ADDRESS=Porchester Road\, London\, 
 England\, W2 5HS\, Westminster\, United Kingdom;X-APPLE-RADIUS=100;X-TITLE
 =Porchester Hall:geo:51.517331,-0.188468
ORGANIZER;CN="Westbourne Forum":MAILTO:westbourne-admin@westbourneforum.org.uk
END:VEVENT
BEGIN:VTIMEZONE
TZID:Europe/London
X-LIC-LOCATION:Europe/London
BEGIN:DAYLIGHT
DTSTART:20240331T020000
TZOFFSETFROM:+0000
TZOFFSETTO:+0100
TZNAME:BST
END:DAYLIGHT
END:VTIMEZONE
END:VCALENDAR