BEGIN:VCALENDAR
VERSION:2.0
PRODID:-//wp-events-plugin.com//7.2.3.1//EN
TZID:Europe/London
X-WR-TIMEZONE:Europe/London
BEGIN:VEVENT
UID:1-13251@westbourneforum.org.uk
DTSTART;TZID=Europe/London:20240803T100000
DTEND;TZID=Europe/London:20240803T123000
DTSTAMP:20240726T222236Z
URL:https://westbourneforum.org.uk/events/cycle-saturdays-get-more-confide
 nt-at-cycling-2024-08-03/
SUMMARY:Cycle Saturdays - Get more confident at cycling
DESCRIPTION:\n\nSign Up\n( Scroll down the page ) 
ATTACH;FMTTYPE=image/jpeg:https://i0.wp.com/westbourneforum.org.uk/wp-cont
 ent/uploads/2024/05/Cycle-Saturdays-Get-more-confident-at-cycling-banner.w
 ebp?fit=800%2C445&ssl=1
LOCATION:Westminster Wheels\, 41 - 45 Church Street\, London\, England\, NW
 8 8ES\, Westminster\, United Kingdom
GEO:51.523701;-0.169674
X-APPLE-STRUCTURED-LOCATION;VALUE=URI;X-ADDRESS=41 - 45 Church Street\, Lon
 don\, England\, NW8 8ES\, Westminster\, United Kingdom;X-APPLE-RADIUS=100;
 X-TITLE=Westminster Wheels:geo:51.523701,-0.169674
ORGANIZER;CN="Westbourne Forum":MAILTO:westbourne-admin@westbourneforum.org.uk
END:VEVENT
BEGIN:VTIMEZONE
TZID:Europe/London
X-LIC-LOCATION:Europe/London
BEGIN:DAYLIGHT
DTSTART:20240331T020000
TZOFFSETFROM:+0000
TZOFFSETTO:+0100
TZNAME:BST
END:DAYLIGHT
END:VTIMEZONE
END:VCALENDAR