BEGIN:VCALENDAR
VERSION:2.0
PRODID:-//wp-events-plugin.com//7.2.3.1//EN
TZID:Europe/London
X-WR-TIMEZONE:Europe/London
BEGIN:VEVENT
UID:1-14817@westbourneforum.org.uk
DTSTART;TZID=Europe/London:20241127T120000
DTEND;TZID=Europe/London:20241127T140000
DTSTAMP:20241114T201734Z
URL:https://westbourneforum.org.uk/events/creating-a-fairer-private-rented
 -sector-3/
SUMMARY:Creating a Fairer Private Rented Sector
DESCRIPTION:We want to hear your views on proposals for a selective licensi
 ng scheme for privately rented properties in Westminster\n\nNo need to boo
 k\, pop in and join us at any of the times below\, check back for new date
 s.\n\nFurther details
ATTACH;FMTTYPE=image/jpeg:https://i0.wp.com/westbourneforum.org.uk/wp-cont
 ent/uploads/2024/11/Have-your-say-on-private-rented-property-licensing-2.w
 ebp?fit=800%2C445&ssl=1
LOCATION:Housing Service Centre\, 24 Lilestone Street\,\, London\, England\
 , NW8 8SR\, Westminster\, United Kingdom
GEO:51.525228;-0.166276
X-APPLE-STRUCTURED-LOCATION;VALUE=URI;X-ADDRESS=24 Lilestone Street\,\, Lon
 don\, England\, NW8 8SR\, Westminster\, United Kingdom;X-APPLE-RADIUS=100;
 X-TITLE=Housing Service Centre:geo:51.525228,-0.166276
ORGANIZER;CN="Westbourne Forum":MAILTO:westbourne-admin@westbourneforum.org.uk
END:VEVENT
BEGIN:VTIMEZONE
TZID:Europe/London
X-LIC-LOCATION:Europe/London
BEGIN:STANDARD
DTSTART:20241027T010000
TZOFFSETFROM:+0100
TZOFFSETTO:+0000
TZNAME:GMT
END:STANDARD
END:VTIMEZONE
END:VCALENDAR