BEGIN:VCALENDAR
VERSION:2.0
PRODID:-//wp-events-plugin.com//7.2.3.1//EN
TZID:Europe/London
X-WR-TIMEZONE:Europe/London
BEGIN:VEVENT
UID:1-21312@westbourneforum.org.uk
DTSTART;TZID=Europe/London:20260425T150000
DTEND;TZID=Europe/London:20260425T180000
DTSTAMP:20260424T202804Z
URL:https://westbourneforum.org.uk/events/create-it-design-it-sell-it-2026
 -04-25/
SUMMARY:Create It. Design It. Sell It.
DESCRIPTION:\n\nCalling all young people +16 to 30 year!\n\nTickets and fur
 ther information\n\n
ATTACH;FMTTYPE=image/jpeg:https://i0.wp.com/westbourneforum.org.uk/wp-cont
 ent/uploads/2024/05/Create-It.-Design-It.-Sell-It-banner.webp?fit=1080%2C6
 00&ssl=1
LOCATION:Cockpit Theatre\, Gateforth Street\, London\, England\, NW8 8EH\, 
 Westminster\, United Kingdom
GEO:51.524532;-0.169532
X-APPLE-STRUCTURED-LOCATION;VALUE=URI;X-ADDRESS=Gateforth Street\, London\,
  England\, NW8 8EH\, Westminster\, United Kingdom;X-APPLE-RADIUS=100;X-TIT
 LE=Cockpit Theatre:geo:51.524532,-0.169532
ORGANIZER;CN="Westbourne Forum":MAILTO:westbourne-admin@westbourneforum.org.uk
END:VEVENT
BEGIN:VTIMEZONE
TZID:Europe/London
X-LIC-LOCATION:Europe/London
BEGIN:DAYLIGHT
DTSTART:20260329T020000
TZOFFSETFROM:+0000
TZOFFSETTO:+0100
TZNAME:BST
END:DAYLIGHT
END:VTIMEZONE
END:VCALENDAR