BEGIN:VCALENDAR
VERSION:2.0
PRODID:-//wp-events-plugin.com//7.2.3.1//EN
TZID:Europe/London
X-WR-TIMEZONE:Europe/London
BEGIN:VEVENT
UID:1-15171@westbourneforum.org.uk
DTSTART;TZID=Europe/London:20241227T100000
DTEND;TZID=Europe/London:20241227T160000
DTSTAMP:20241216T041402Z
URL:https://westbourneforum.org.uk/events/create-happy-memories-this-chris
 tmas-2024-12-27/
SUMMARY:Create happy memories this Christmas
DESCRIPTION:ABOUT THE PROJECT\nWe work with children aged 5 - 11 who are re
 covering from complex trauma and help them build their confidence and self
 -esteem\, through sports\, games and activities.\n\nYour children must hav
 e a social worker who can refer them.\n\nWe encourage them to participate 
 in activities and develop their skills. We have a ratio of 1 adult to 2 ch
 ildren\, ensuring each child has a voice and is heard.\n\nDuring short hol
 idays\, your children will join us on our daily trips around London\, thes
 e include\;\n- Oxygen trampolining\n- Swimming\n- Ice-skating and bowling\
 n\nDuring long holidays\, your children will join us at a specified venue 
 (Westway Sports Centre\, Holland Park School). Our activities include\;\n-
  Sports and games\n- Arts and Crafts\n- Board games and activities\n\nTIMI
 NGS\nApproximately 10 am - 4 pm\n\nWHAT TO WEAR AND BRING\nComfortable sho
 es and clothes\, waterproof jacket (if necessary)\, and general sportswear
 . Bring a healthy packed lunch and water before the meeting time in a back
 pack.\n\nWHERE SHALL I MEET EVERYONE?\nWe meet in 4 different points acros
 s West London.\n\nBooking and further details\n\nwww.solidaritysports.org\
 n07828 949 650\ninfo@solidaritysports.org
ATTACH;FMTTYPE=image/jpeg:https://i0.wp.com/westbourneforum.org.uk/wp-cont
 ent/uploads/2024/12/Create-happy-memories-this-Christmas-banner.webp?fit=8
 00%2C445&ssl=1
LOCATION:The Seven Stars\, 253 North End Road\, London\, England\, W14 9NS\
 , Hammersmith and Fulham\, United Kingdom
GEO:51.48702;-0.203148
X-APPLE-STRUCTURED-LOCATION;VALUE=URI;X-ADDRESS=253 North End Road\, London
 \, England\, W14 9NS\, Hammersmith and Fulham\, United Kingdom;X-APPLE-RAD
 IUS=100;X-TITLE=The Seven Stars:geo:51.48702,-0.203148
ORGANIZER;CN="Westbourne Forum":MAILTO:westbourne-admin@westbourneforum.org.uk
END:VEVENT
BEGIN:VTIMEZONE
TZID:Europe/London
X-LIC-LOCATION:Europe/London
BEGIN:STANDARD
DTSTART:20241027T010000
TZOFFSETFROM:+0100
TZOFFSETTO:+0000
TZNAME:GMT
END:STANDARD
END:VTIMEZONE
END:VCALENDAR