BEGIN:VCALENDAR
VERSION:2.0
PRODID:-//wp-events-plugin.com//7.2.3.1//EN
TZID:Europe/London
X-WR-TIMEZONE:Europe/London
BEGIN:VEVENT
UID:1-8368@westbourneforum.org.uk
DTSTART;TZID=Europe/London:20231017T170000
DTEND;TZID=Europe/London:20231017T183000
DTSTAMP:20230921T010504Z
URL:https://westbourneforum.org.uk/events/crafts-and-arts-for-4-12-year-ol
 ds-2023-10-17/
SUMMARY:Crafts and Arts for 4 - 12 year olds
DESCRIPTION:\n\nPhone: 07732 403 744\n\nEmail: info@queensparkba.org
ATTACH;FMTTYPE=image/jpeg:https://i0.wp.com/westbourneforum.org.uk/wp-cont
 ent/uploads/2023/09/Queens-Park-Bangladesh-Association-Arts-and-Crafts-age
 -4-12-banner.webp?fit=800%2C445&ssl=1
LOCATION:St Judes Community Hall\, 69 Ilbert Street\, Queen's Park\, Englan
 d\, W10 4QH\, Westminster\, United Kingdom
GEO:51.528823;-0.21024
X-APPLE-STRUCTURED-LOCATION;VALUE=URI;X-ADDRESS=69 Ilbert Street\, Queen's 
 Park\, England\, W10 4QH\, Westminster\, United Kingdom;X-APPLE-RADIUS=100
 ;X-TITLE=St Judes Community Hall:geo:51.528823,-0.21024
ORGANIZER;CN="Westbourne Forum":MAILTO:westbourne-admin@westbourneforum.org.uk
END:VEVENT
BEGIN:VTIMEZONE
TZID:Europe/London
X-LIC-LOCATION:Europe/London
BEGIN:DAYLIGHT
DTSTART:20230326T020000
TZOFFSETFROM:+0000
TZOFFSETTO:+0100
TZNAME:BST
END:DAYLIGHT
END:VTIMEZONE
END:VCALENDAR