BEGIN:VCALENDAR
VERSION:2.0
PRODID:-//wp-events-plugin.com//7.2.3.1//EN
TZID:Europe/London
X-WR-TIMEZONE:Europe/London
BEGIN:VEVENT
UID:1-9687@westbourneforum.org.uk
DTSTART;TZID=Europe/London:20240130T110000
DTEND;TZID=Europe/London:20240130T130000
DTSTAMP:20240104T202455Z
URL:https://westbourneforum.org.uk/events/cook-smart-spend-less-7-week-cou
 rse-2024-01-30/
SUMMARY:Cook Smart\, Spend  Less - 7 week course
DESCRIPTION:
ATTACH;FMTTYPE=image/jpeg:https://i0.wp.com/westbourneforum.org.uk/wp-cont
 ent/uploads/2024/01/cook-smart-spend-less-banner.webp?fit=1131%2C629&ssl=1
LOCATION:The Stowe Centre\, 258 Harrow Road\, Westminster\, London\, W2 5ES
 \, England\, United Kingdom
GEO:51.520203;-0.190324
X-APPLE-STRUCTURED-LOCATION;VALUE=URI;X-ADDRESS=258 Harrow Road\, Westminst
 er\, London\, W2 5ES\, England\, United Kingdom;X-APPLE-RADIUS=100;X-TITLE
 =The Stowe Centre:geo:51.520203,-0.190324
ORGANIZER;CN="Westbourne Forum":MAILTO:westbourne-admin@westbourneforum.org.uk
END:VEVENT
BEGIN:VTIMEZONE
TZID:Europe/London
X-LIC-LOCATION:Europe/London
BEGIN:STANDARD
DTSTART:20231029T010000
TZOFFSETFROM:+0100
TZOFFSETTO:+0000
TZNAME:GMT
END:STANDARD
END:VTIMEZONE
END:VCALENDAR