BEGIN:VCALENDAR
VERSION:2.0
PRODID:-//wp-events-plugin.com//7.2.3.1//EN
TZID:Europe/London
X-WR-TIMEZONE:Europe/London
BEGIN:VEVENT
UID:1-13152@westbourneforum.org.uk
DTSTART;TZID=Europe/London:20240805T140000
DTEND;TZID=Europe/London:20240805T180000
DTSTAMP:20240716T190551Z
URL:https://westbourneforum.org.uk/events/connect-stars-summer-youth-camp-
 2024-08-05/
SUMMARY:Connect Stars Summer Youth Camp
DESCRIPTION:\n\nPhone : 079 0176 2809\n\nEmail: info@divinepurpose.org.uk\n
 \nWebsite: divinepurpose.org.uk\n\nSign up\n\n&nbsp\;\n\n
ATTACH;FMTTYPE=image/jpeg:https://i0.wp.com/westbourneforum.org.uk/wp-cont
 ent/uploads/2024/07/Divine-Purpose-Youth-Camp-banner.webp?fit=1035%2C576&s
 sl=1
LOCATION:Vale Community Centre\, Pentland Road\, London\, England\, NW6 5RT
 \, Brent\, United Kingdom
GEO:51.531764;-0.196363
X-APPLE-STRUCTURED-LOCATION;VALUE=URI;X-ADDRESS=Pentland Road\, London\, En
 gland\, NW6 5RT\, Brent\, United Kingdom;X-APPLE-RADIUS=100;X-TITLE=Vale C
 ommunity Centre:geo:51.531764,-0.196363
ORGANIZER;CN="Westbourne Forum":MAILTO:westbourne-admin@westbourneforum.org.uk
END:VEVENT
BEGIN:VTIMEZONE
TZID:Europe/London
X-LIC-LOCATION:Europe/London
BEGIN:DAYLIGHT
DTSTART:20240331T020000
TZOFFSETFROM:+0000
TZOFFSETTO:+0100
TZNAME:BST
END:DAYLIGHT
END:VTIMEZONE
END:VCALENDAR