BEGIN:VCALENDAR
VERSION:2.0
PRODID:-//wp-events-plugin.com//7.2.3.1//EN
TZID:Europe/London
X-WR-TIMEZONE:Europe/London
BEGIN:VEVENT
UID:1-21112@westbourneforum.org.uk
DTSTART;TZID=Europe/London:20260328T150000
DTEND;TZID=Europe/London:20260328T180000
DTSTAMP:20260324T211955Z
URL:https://westbourneforum.org.uk/events/community-spring-fair/
SUMMARY:Community Spring Fair
DESCRIPTION:\n\n&#x1f33c\; You’re Invited! – Community Spring Fair &#
 x1f33c\;\n\nCome and join us for an afternoon of family fun on Saturday 2
 8 March\, 3pm–6pm\, at 105 Droop Street\, London W10 4DQ.\n\nWhat’s h
 appening:\n&#x1f423\; Easter Egg Hunt\n&#x1f3a8\; Natural Arts &amp\; Cr
 afts\n&#x1f525\; Fire Pit Fun\n&#x1f60a\; Face Painting\n&#x1f36a\; Ref
 reshments &amp\; Treats\n… and plenty more for families to enjoy!\n\nThi
 s is a free community event\, and everyone is welcome.\n\nIf you have any
  questions\, feel free to email charlotte@realworldforestschool.co.uk.\n\n
 Please share with friends and neighbours — we’d love to see you there!
  &#x1f33f\;&#x2728\;\n\nMore details available on our website: realworldf
 orestschool.co.uk\n\n
ATTACH;FMTTYPE=image/jpeg:https://i0.wp.com/westbourneforum.org.uk/wp-cont
 ent/uploads/2024/05/Comunity-Spring-Fair-Real-World-Forest-School-banner.w
 ebp?fit=1024%2C570&ssl=1
LOCATION:Real World Forest School\, 105 Droop Street\, Queen's Park\, Engla
 nd\, W10 4DA\, Westminster\, United Kingdom
GEO:51.528127;-0.214232
X-APPLE-STRUCTURED-LOCATION;VALUE=URI;X-ADDRESS=105 Droop Street\, Queen's 
 Park\, England\, W10 4DA\, Westminster\, United Kingdom;X-APPLE-RADIUS=100
 ;X-TITLE=Real World Forest School:geo:51.528127,-0.214232
ORGANIZER;CN="Westbourne Forum":MAILTO:westbourne-admin@westbourneforum.org.uk
END:VEVENT
BEGIN:VTIMEZONE
TZID:Europe/London
X-LIC-LOCATION:Europe/London
BEGIN:STANDARD
DTSTART:20251026T010000
TZOFFSETFROM:+0100
TZOFFSETTO:+0000
TZNAME:GMT
END:STANDARD
END:VTIMEZONE
END:VCALENDAR