BEGIN:VCALENDAR
VERSION:2.0
PRODID:-//wp-events-plugin.com//7.2.3.1//EN
TZID:Europe/London
X-WR-TIMEZONE:Europe/London
BEGIN:VEVENT
UID:1-19606@westbourneforum.org.uk
DTSTART;TZID=Europe/London:20250919T140000
DTEND;TZID=Europe/London:20250919T170000
DTSTAMP:20251004T220830Z
URL:https://westbourneforum.org.uk/events/community-quilting-with-natasha-
 shah-2025-09-19/
SUMMARY:Community Quilting with Natasha Shah
DESCRIPTION:\n\nHello\, I am hosting Community Quilting drop-in sessions\, 
 every Friday afternoon\, 2 - 5 pm \, from 19th September to 7th November a
 t Mason &amp\; Fifth Westbourne Park\, W9\n\nDuring the sessions\, you'll 
 learn how to appliqué and contribute a piece (or two\, and hopefully more
 !) to a communal artwork that is a celebration of the community\, the surr
 ounding area and of our shared experience.\n\nAll materials are provided 
 – just bring your creativity and enthusiasm! All abilities welcome\n\nIf
  you have any spare cotton fabrics or old cotton shirts to donate\, please
  bring them along – the more stories in the fabric\, the better.\n\n* Un
 der 16s must be accompanied by an adult *\n\nYou can find out more here: 
 https://www.communityquilting.com/workshops/mason-fifth\n\n
ATTACH;FMTTYPE=image/jpeg:https://i0.wp.com/westbourneforum.org.uk/wp-cont
 ent/uploads/2025/10/Community-Quilting-with-Natasha-Shah-banner.webp?fit=1
 080%2C601&ssl=1
LOCATION:Mason&Fifth\, 11a Woodfield Road\, London\, England\, W9 2BA\, Wes
 tminster\, United Kingdom
GEO:51.522821;-0.19967
X-APPLE-STRUCTURED-LOCATION;VALUE=URI;X-ADDRESS=11a Woodfield Road\, London
 \, England\, W9 2BA\, Westminster\, United Kingdom;X-APPLE-RADIUS=100;X-TI
 TLE=Mason&Fifth:geo:51.522821,-0.19967
ORGANIZER;CN="Westbourne Forum":MAILTO:westbourne-admin@westbourneforum.org.uk
END:VEVENT
BEGIN:VTIMEZONE
TZID:Europe/London
X-LIC-LOCATION:Europe/London
BEGIN:DAYLIGHT
DTSTART:20250330T020000
TZOFFSETFROM:+0000
TZOFFSETTO:+0100
TZNAME:BST
END:DAYLIGHT
END:VTIMEZONE
END:VCALENDAR