BEGIN:VCALENDAR
VERSION:2.0
PRODID:-//wp-events-plugin.com//7.2.3.1//EN
TZID:Europe/London
X-WR-TIMEZONE:Europe/London
BEGIN:VEVENT
UID:1-5008@westbourneforum.org.uk
DTSTART;TZID=Europe/London:20230322T093000
DTEND;TZID=Europe/London:20230322T120000
DTSTAMP:20230121T184511Z
URL:https://westbourneforum.org.uk/events/community-quilt-making-2023-03-2
 2/
SUMMARY:Community Quilt-making
DESCRIPTION:
ATTACH;FMTTYPE=image/jpeg:https://i0.wp.com/westbourneforum.org.uk/wp-cont
 ent/uploads/2023/01/Community-Quilt-making-header.webp?fit=800%2C445&ssl=1
LOCATION:Amberley Club House\, 10 Clearwell Drive\, London\, England\, W9 2
 JZ\, Westminster\, United Kingdom
GEO:51.523854;-0.189598
X-APPLE-STRUCTURED-LOCATION;VALUE=URI;X-ADDRESS=10 Clearwell Drive\, London
 \, England\, W9 2JZ\, Westminster\, United Kingdom;X-APPLE-RADIUS=100;X-TI
 TLE=Amberley Club House:geo:51.523854,-0.189598
ORGANIZER;CN="Westbourne Forum":MAILTO:westbourne-admin@westbourneforum.org.uk
END:VEVENT
BEGIN:VTIMEZONE
TZID:Europe/London
X-LIC-LOCATION:Europe/London
BEGIN:STANDARD
DTSTART:20221030T010000
TZOFFSETFROM:+0100
TZOFFSETTO:+0000
TZNAME:GMT
END:STANDARD
END:VTIMEZONE
END:VCALENDAR