BEGIN:VCALENDAR
VERSION:2.0
PRODID:-//wp-events-plugin.com//7.2.3.1//EN
TZID:Europe/London
X-WR-TIMEZONE:Europe/London
BEGIN:VEVENT
UID:1-5012@westbourneforum.org.uk
DTSTART;TZID=Europe/London:20230208T124500
DTEND;TZID=Europe/London:20230208T151500
DTSTAMP:20230121T185320Z
URL:https://westbourneforum.org.uk/events/community-learn-to-sow-and-mend-
 2023-02-08/
SUMMARY:Community Learn to Sow and Mend
DESCRIPTION:
ATTACH;FMTTYPE=image/jpeg:https://i0.wp.com/westbourneforum.org.uk/wp-cont
 ent/uploads/2023/01/Community-Learn-to-Sow-and-Mend-header.webp?fit=800%2C
 445&ssl=1
LOCATION:Amberley Club House\, 10 Clearwell Drive\, London\, England\, W9 2
 JZ\, Westminster\, United Kingdom
GEO:51.523854;-0.189598
X-APPLE-STRUCTURED-LOCATION;VALUE=URI;X-ADDRESS=10 Clearwell Drive\, London
 \, England\, W9 2JZ\, Westminster\, United Kingdom;X-APPLE-RADIUS=100;X-TI
 TLE=Amberley Club House:geo:51.523854,-0.189598
ORGANIZER;CN="Westbourne Forum":MAILTO:westbourne-admin@westbourneforum.org.uk
END:VEVENT
BEGIN:VTIMEZONE
TZID:Europe/London
X-LIC-LOCATION:Europe/London
BEGIN:STANDARD
DTSTART:20221030T010000
TZOFFSETFROM:+0100
TZOFFSETTO:+0000
TZNAME:GMT
END:STANDARD
END:VTIMEZONE
END:VCALENDAR