BEGIN:VCALENDAR
VERSION:2.0
PRODID:-//wp-events-plugin.com//7.2.3.1//EN
TZID:Europe/London
X-WR-TIMEZONE:Europe/London
BEGIN:VEVENT
UID:1-13522@westbourneforum.org.uk
DTSTART;TZID=Europe/London:20240908T110000
DTEND;TZID=Europe/London:20240908T160000
DTSTAMP:20240819T231847Z
URL:https://westbourneforum.org.uk/events/community-cook-off-3/
SUMMARY:Community Cook Off
DESCRIPTION:We are looking for people to participate in the cook out. If yo
 u would like to compete in the cook out or know anyone who would be intere
 sted\, please get in touch!!! May the best cook win!!\n\n10 Local Teams - 
 DJ - Family Day\nCreate.Cook.Connect\n\nFor more details please email: inf
 o@communitycookoff.org\nInstagram: @communitycookoff\nX: x.com/CommunityCo
 okO1\nWebsite: www.communitycookoff.org\n\nSupported by Mayor of London | 
 Funded by UK Government | Powered by LEVELLING UP | City of Westminster
ATTACH;FMTTYPE=image/jpeg:https://i0.wp.com/westbourneforum.org.uk/wp-cont
 ent/uploads/2024/06/community-cook-off-2024-banner.webp?fit=800%2C445&ssl=
 1
LOCATION:Tamplin Mews Gardens\, Chippenham Road\, Westminster\, London\, W9
  3SP\, United Kingdom
GEO:51.526314;-0.197926
X-APPLE-STRUCTURED-LOCATION;VALUE=URI;X-ADDRESS=Chippenham Road\, Westminst
 er\, London\, W9 3SP\, United Kingdom;X-APPLE-RADIUS=100;X-TITLE=Tamplin M
 ews Gardens:geo:51.526314,-0.197926
ORGANIZER;CN="Westbourne Forum":MAILTO:westbourne-admin@westbourneforum.org.uk
END:VEVENT
BEGIN:VTIMEZONE
TZID:Europe/London
X-LIC-LOCATION:Europe/London
BEGIN:DAYLIGHT
DTSTART:20240331T020000
TZOFFSETFROM:+0000
TZOFFSETTO:+0100
TZNAME:BST
END:DAYLIGHT
END:VTIMEZONE
END:VCALENDAR