BEGIN:VCALENDAR
VERSION:2.0
PRODID:-//wp-events-plugin.com//7.2.3.1//EN
TZID:Europe/London
X-WR-TIMEZONE:Europe/London
BEGIN:VEVENT
UID:1-12010@westbourneforum.org.uk
DTSTART;TZID=Europe/London:20240706T110000
DTEND;TZID=Europe/London:20240706T160000
DTSTAMP:20240705T163949Z
URL:https://westbourneforum.org.uk/events/community-cook-off-2/
SUMMARY:Community Cook Off
DESCRIPTION:\n\nEmail | Instagram | Website\n\n
ATTACH;FMTTYPE=image/jpeg:https://i0.wp.com/westbourneforum.org.uk/wp-cont
 ent/uploads/2024/06/community-cook-off-2024-banner.webp?fit=800%2C445&ssl=
 1
LOCATION:Tamplin Mews Gardens\, Chippenham Road\, Westminster\, London\, W9
  3SP\, United Kingdom
GEO:51.526314;-0.197926
X-APPLE-STRUCTURED-LOCATION;VALUE=URI;X-ADDRESS=Chippenham Road\, Westminst
 er\, London\, W9 3SP\, United Kingdom;X-APPLE-RADIUS=100;X-TITLE=Tamplin M
 ews Gardens:geo:51.526314,-0.197926
ORGANIZER;CN="Westbourne Forum":MAILTO:westbourne-admin@westbourneforum.org.uk
END:VEVENT
BEGIN:VTIMEZONE
TZID:Europe/London
X-LIC-LOCATION:Europe/London
BEGIN:DAYLIGHT
DTSTART:20240331T020000
TZOFFSETFROM:+0000
TZOFFSETTO:+0100
TZNAME:BST
END:DAYLIGHT
END:VTIMEZONE
END:VCALENDAR