BEGIN:VCALENDAR
VERSION:2.0
PRODID:-//wp-events-plugin.com//7.2.3.1//EN
TZID:Europe/London
X-WR-TIMEZONE:Europe/London
BEGIN:VEVENT
UID:1-13411@westbourneforum.org.uk
DTSTART;TZID=Europe/London:20240822T120000
DTEND;TZID=Europe/London:20240822T160000
DTSTAMP:20240813T201640Z
URL:https://westbourneforum.org.uk/events/community-55-carnival-party/
SUMMARY:Community 55+ Carnival Party
DESCRIPTION:\n\nevent@aukc.org.uk\n\n020 8969 9105 ext. 3\n\n
ATTACH;FMTTYPE=image/jpeg:https://i0.wp.com/westbourneforum.org.uk/wp-cont
 ent/uploads/2024/08/Community-55Carnival-Party-banner.webp?fit=985%2C548&s
 sl=1
LOCATION:Portobello Green\, Portobello Road\, London\, England\, W10 5TD\, 
 Kensington and Chelsea\, United Kingdom
GEO:51.518594;-0.207909
X-APPLE-STRUCTURED-LOCATION;VALUE=URI;X-ADDRESS=Portobello Road\, London\, 
 England\, W10 5TD\, Kensington and Chelsea\, United Kingdom;X-APPLE-RADIUS
 =100;X-TITLE=Portobello Green:geo:51.518594,-0.207909
ORGANIZER;CN="Westbourne Forum":MAILTO:westbourne-admin@westbourneforum.org.uk
END:VEVENT
BEGIN:VTIMEZONE
TZID:Europe/London
X-LIC-LOCATION:Europe/London
BEGIN:DAYLIGHT
DTSTART:20240331T020000
TZOFFSETFROM:+0000
TZOFFSETTO:+0100
TZNAME:BST
END:DAYLIGHT
END:VTIMEZONE
END:VCALENDAR