BEGIN:VCALENDAR
VERSION:2.0
PRODID:-//wp-events-plugin.com//7.2.3.1//EN
TZID:Europe/London
X-WR-TIMEZONE:Europe/London
BEGIN:VEVENT
UID:1-17469@westbourneforum.org.uk
DTSTART;TZID=Europe/London:20250624T120000
DTEND;TZID=Europe/London:20250624T140000
DTSTAMP:20250601T223157Z
URL:https://westbourneforum.org.uk/events/communitea-afternoon-tea-with-a-
 little-more-excitement-2/
SUMMARY:COMMUNITEA - Afternoon tea with a little more excitement
DESCRIPTION:\n\nCall: 020 8960 5644\n\nText: 078 4926 6791\n\n
ATTACH;FMTTYPE=image/jpeg:https://i0.wp.com/westbourneforum.org.uk/wp-cont
 ent/uploads/2025/05/Afternoon-tea-with-a-little-more-excitement-banner.web
 p?fit=1077%2C599&ssl=1
LOCATION:Juniper House\, Droop Street\, Queen's Park\, England\, W10 4QX\, 
 Westminster\, United Kingdom
GEO:51.527392;-0.210952
X-APPLE-STRUCTURED-LOCATION;VALUE=URI;X-ADDRESS=Droop Street\, Queen's Park
 \, England\, W10 4QX\, Westminster\, United Kingdom;X-APPLE-RADIUS=100;X-T
 ITLE=Juniper House:geo:51.527392,-0.210952
ORGANIZER;CN="Westbourne Forum":MAILTO:westbourne-admin@westbourneforum.org.uk
END:VEVENT
BEGIN:VTIMEZONE
TZID:Europe/London
X-LIC-LOCATION:Europe/London
BEGIN:DAYLIGHT
DTSTART:20250330T020000
TZOFFSETFROM:+0000
TZOFFSETTO:+0100
TZNAME:BST
END:DAYLIGHT
END:VTIMEZONE
END:VCALENDAR