BEGIN:VCALENDAR
VERSION:2.0
PRODID:-//wp-events-plugin.com//7.2.3.1//EN
TZID:Europe/London
X-WR-TIMEZONE:Europe/London
BEGIN:VEVENT
UID:1-11605@westbourneforum.org.uk
DTSTART;TZID=Europe/London:20240530T100000
DTEND;TZID=Europe/London:20240530T160000
DTSTAMP:20240506T205148Z
URL:https://westbourneforum.org.uk/events/city-lions-may-bank-holiday-2024
 -2024-05-30/
SUMMARY:City Lions May Bank Holiday 2024
DESCRIPTION:City Lions are hosting a May Holiday programme\, filled with 3-
 days of creativity\, friendships and fun activities to keep you busy this 
 break.Each day\, we will meet at a new location\, to experience various ac
 tivities and visit spaces that will bring your imagination to life! We wil
 l be offering a wide range of fun like a circus school workshop\, photogra
 phy workshop and more!\n\nTeam member Kiz &amp\; her team will be there ea
 ch day to support you\, but you will also get the chance to meet and build
  friendships with others in the group. We hope to see you there!\n\nAge 13
  - 16\n\nSEND FRIENDLY\nWe have some training or experience of Special Edu
 cational Needs &amp\; Disabilities and are able to accommodate children wi
 th low-level needs\, we do not offer 1:1. Contact us to discuss how we can
  support your child.\n\n
ATTACH;FMTTYPE=image/jpeg:https://i0.wp.com/westbourneforum.org.uk/wp-cont
 ent/uploads/2024/05/City-Liona-May-bank-holiday-2024-banner.webp?fit=800%2
 C445&ssl=1
LOCATION:City Hall\, 64 Victoria Street\, London\, England\, SW1E 6QP\, Wes
 tminster\, United Kingdom
GEO:51.497102;-0.137764
X-APPLE-STRUCTURED-LOCATION;VALUE=URI;X-ADDRESS=64 Victoria Street\, London
 \, England\, SW1E 6QP\, Westminster\, United Kingdom;X-APPLE-RADIUS=100;X-
 TITLE=City Hall:geo:51.497102,-0.137764
ORGANIZER;CN="Westbourne Forum":MAILTO:westbourne-admin@westbourneforum.org.uk
END:VEVENT
BEGIN:VTIMEZONE
TZID:Europe/London
X-LIC-LOCATION:Europe/London
BEGIN:DAYLIGHT
DTSTART:20240331T020000
TZOFFSETFROM:+0000
TZOFFSETTO:+0100
TZNAME:BST
END:DAYLIGHT
END:VTIMEZONE
END:VCALENDAR