BEGIN:VCALENDAR
VERSION:2.0
PRODID:-//wp-events-plugin.com//7.2.3.1//EN
TZID:Europe/London
X-WR-TIMEZONE:Europe/London
BEGIN:VEVENT
UID:1-20904@westbourneforum.org.uk
DTSTART;TZID=Europe/London:20260401T100000
DTEND;TZID=Europe/London:20260401T160000
DTSTAMP:20260311T183907Z
URL:https://westbourneforum.org.uk/events/city-lions-easter-holiday-progra
 mme-2-2026-03-30-2026-03-31-2026-04-01/
SUMMARY:City Lions Easter Holiday Programme
DESCRIPTION:City Lions are running a 4-day fun packed programme to kick sta
 rt your Easter break!\n\nJoin them for various creative and cultural activ
 ities\, such as a sculpture workshop with The CoLab\, cupcake decorating\,
  creative writing workshop and much more!\n\nEach day the City Lions team 
 will be on hand to support you and lunch is included! Hope to see you then
 !\n\nSEND friendly\nWe have some training or experience of Special Educati
 onal Needs &amp\; Disabilities and are able to accommodate children with l
 ow-level needs\, we do not offer 1:1. Contact us to discuss how we can sup
 port your child.\n\nBooking and further details.
ATTACH;FMTTYPE=image/jpeg:https://i0.wp.com/westbourneforum.org.uk/wp-cont
 ent/uploads/2024/05/City-Lions-Easter-Holiday-Programme-banner.webp?fit=12
 80%2C712&ssl=1
LOCATION:City Hall\, 64 Victoria Street\, London\, England\, SW1E 6QP\, Wes
 tminster\, United Kingdom
GEO:51.497102;-0.137764
X-APPLE-STRUCTURED-LOCATION;VALUE=URI;X-ADDRESS=64 Victoria Street\, London
 \, England\, SW1E 6QP\, Westminster\, United Kingdom;X-APPLE-RADIUS=100;X-
 TITLE=City Hall:geo:51.497102,-0.137764
ORGANIZER;CN="Westbourne Forum":MAILTO:westbourne-admin@westbourneforum.org.uk
END:VEVENT
BEGIN:VTIMEZONE
TZID:Europe/London
X-LIC-LOCATION:Europe/London
BEGIN:DAYLIGHT
DTSTART:20260329T020000
TZOFFSETFROM:+0000
TZOFFSETTO:+0100
TZNAME:BST
END:DAYLIGHT
END:VTIMEZONE
END:VCALENDAR