BEGIN:VCALENDAR
VERSION:2.0
PRODID:-//wp-events-plugin.com//7.2.3.1//EN
TZID:Europe/London
X-WR-TIMEZONE:Europe/London
BEGIN:VEVENT
UID:1-8960@westbourneforum.org.uk
DTSTART;TZID=Europe/London:20231229T100000
DTEND;TZID=Europe/London:20231229T160000
DTSTAMP:20231207T053146Z
URL:https://westbourneforum.org.uk/events/city-lions-christmas-holiday-pro
 gramme-2023-2023-12-29/
SUMMARY:City Lions Christmas Holiday Programme 2023
DESCRIPTION:PLEASE NOTE: This project is part of the Holiday Activities &a
 mp\; Food (HAF) Programme\, for young people in Westminster and Kensington
  &amp\; Chelsea who are eligible for benefits-related Free School Meals*\
 n\nCity Lions are hosting a Festive December Holiday programme\, filled wi
 th 3-days of creativity\, friendships and fun activities to keep you busy 
 this break.\n\nEach day\, we will meet at a new location\, to experience v
 arious activities and visit spaces that will bring your imagination to lif
 e! We will be offering a wide range of fun like ice-skating and more!\n\nT
 eam member Kiz &amp\; her team will be there each day to support you\, but
  you will also get the chance to meet and build friendships with others in
  the group. We hope to see you there!\n\nAge 13 - 16\n\nBooking and furthe
 r details\n\ncitylions@westminster.gov.uk\n\nHome | City Lions
ATTACH;FMTTYPE=image/jpeg:https://i0.wp.com/westbourneforum.org.uk/wp-cont
 ent/uploads/2023/12/Christmas-Holiday-Programme-2023-banner.webp?fit=1094%
 2C609&ssl=1
LOCATION:City Hall\, 64 Victoria Street\, London\, England\, SW1E 6QP\, Wes
 tminster\, United Kingdom
GEO:51.497102;-0.137764
X-APPLE-STRUCTURED-LOCATION;VALUE=URI;X-ADDRESS=64 Victoria Street\, London
 \, England\, SW1E 6QP\, Westminster\, United Kingdom;X-APPLE-RADIUS=100;X-
 TITLE=City Hall:geo:51.497102,-0.137764
ORGANIZER;CN="Westbourne Forum":MAILTO:westbourne-admin@westbourneforum.org.uk
END:VEVENT
BEGIN:VTIMEZONE
TZID:Europe/London
X-LIC-LOCATION:Europe/London
BEGIN:STANDARD
DTSTART:20231029T010000
TZOFFSETFROM:+0100
TZOFFSETTO:+0000
TZNAME:GMT
END:STANDARD
END:VTIMEZONE
END:VCALENDAR