BEGIN:VCALENDAR
VERSION:2.0
PRODID:-//wp-events-plugin.com//7.2.3.1//EN
TZID:Europe/London
X-WR-TIMEZONE:Europe/London
BEGIN:VEVENT
UID:1-7024@westbourneforum.org.uk
DTSTART;TZID=Europe/London:20230815T120000
DTEND;TZID=Europe/London:20230815T180000
DTSTAMP:20230727T015642Z
URL:https://westbourneforum.org.uk/events/churchill-gardens-summer-2023-08
 -15/
SUMMARY:Churchill Gardens Summer
DESCRIPTION:PLEASE NOTE: This project is part of the Holiday Activities &am
 p\; Food ( HAF ) Programme\, for young people living in Westminster who ar
 e eligible for free school meals.\n\nThe Summer Programme for the Churchil
 l Gardens includes trips and outings to the cinema\, paintballing\, Go-kar
 ting and a continued focus on outdoor and sports events including football
 \, basketball and parkour and we will run our own sports days. We will als
 o run chess tournaments\, quizzes\, table tennis and continue the popular 
 bike project.\n\nDetails of meal provided:\n\nYoung people will be involve
 d in menu planning and preparing fresh health food and we will provide san
 dwiches and healthy snacks for days when we have outdoor activities and ou
 tings.\n\nTelephone: 07810 789 292\nEmail: z.sidiammi@futuremen.org\n\nNea
 rest bus stop: Pimlico Academy and Library\nNearest tube stop: Pimlico\n\n
 Booking required.\n\nfuturemen.org
ATTACH;FMTTYPE=image/jpeg:https://i0.wp.com/westbourneforum.org.uk/wp-cont
 ent/uploads/2023/07/stills6-header.webp?fit=800%2C445&ssl=1
LOCATION:Churchill Hall\, Churchill Gardens\, London\, England\, SW1V 3AL\,
  Westminster\, United Kingdom
GEO:51.486641;-0.14261
X-APPLE-STRUCTURED-LOCATION;VALUE=URI;X-ADDRESS=Churchill Gardens\, London\
 , England\, SW1V 3AL\, Westminster\, United Kingdom;X-APPLE-RADIUS=100;X-T
 ITLE=Churchill Hall:geo:51.486641,-0.14261
ORGANIZER;CN="Westbourne Forum":MAILTO:westbourne-admin@westbourneforum.org.uk
END:VEVENT
BEGIN:VTIMEZONE
TZID:Europe/London
X-LIC-LOCATION:Europe/London
BEGIN:DAYLIGHT
DTSTART:20230326T020000
TZOFFSETFROM:+0000
TZOFFSETTO:+0100
TZNAME:BST
END:DAYLIGHT
END:VTIMEZONE
END:VCALENDAR