BEGIN:VCALENDAR
VERSION:2.0
PRODID:-//wp-events-plugin.com//7.2.3.1//EN
TZID:Europe/London
X-WR-TIMEZONE:Europe/London
BEGIN:VEVENT
UID:1-11530@westbourneforum.org.uk
DTSTART;TZID=Europe/London:20240504T133000
DTEND;TZID=Europe/London:20240504T153000
DTSTAMP:20240430T201628Z
URL:https://westbourneforum.org.uk/events/church-street-photography-exhibi
 tion/
SUMMARY:Church Street Photography Exhibition
DESCRIPTION:
ATTACH;FMTTYPE=image/jpeg:https://i0.wp.com/westbourneforum.org.uk/wp-cont
 ent/uploads/2024/04/Church-Street-Photography-Exhibition-banner.webp?fit=9
 80%2C546&ssl=1
LOCATION:Church Street Library\, 67 Church Street\, London\, England\, NW8 
 8EU\, Westminster\, United Kingdom
GEO:51.523215;-0.170393
X-APPLE-STRUCTURED-LOCATION;VALUE=URI;X-ADDRESS=67 Church Street\, London\,
  England\, NW8 8EU\, Westminster\, United Kingdom;X-APPLE-RADIUS=100;X-TIT
 LE=Church Street Library:geo:51.523215,-0.170393
ORGANIZER;CN="Westbourne Forum":MAILTO:westbourne-admin@westbourneforum.org.uk
END:VEVENT
BEGIN:VTIMEZONE
TZID:Europe/London
X-LIC-LOCATION:Europe/London
BEGIN:DAYLIGHT
DTSTART:20240331T020000
TZOFFSETFROM:+0000
TZOFFSETTO:+0100
TZNAME:BST
END:DAYLIGHT
END:VTIMEZONE
END:VCALENDAR