BEGIN:VCALENDAR
VERSION:2.0
PRODID:-//wp-events-plugin.com//7.2.3.1//EN
TZID:Europe/London
X-WR-TIMEZONE:Europe/London
BEGIN:VEVENT
UID:1-14939@westbourneforum.org.uk
DTSTART;TZID=Europe/London:20241201T140000
DTEND;TZID=Europe/London:20241201T160000
DTSTAMP:20241130T210555Z
URL:https://westbourneforum.org.uk/events/christmas-fair/
SUMMARY:Christmas Fair
DESCRIPTION:
ATTACH;FMTTYPE=image/jpeg:https://i0.wp.com/westbourneforum.org.uk/wp-cont
 ent/uploads/2024/11/You-are-invited-to-Christmas-Fair-banner.webp?fit=1160
 %2C645&ssl=1
LOCATION:Triangle Studios\, 66 Church Street\, London\, England\, NW8 8ET\,
  Westminster\, United Kingdom
GEO:51.523339;-0.17085
X-APPLE-STRUCTURED-LOCATION;VALUE=URI;X-ADDRESS=66 Church Street\, London\,
  England\, NW8 8ET\, Westminster\, United Kingdom;X-APPLE-RADIUS=100;X-TIT
 LE=Triangle Studios:geo:51.523339,-0.17085
ORGANIZER;CN="Westbourne Forum":MAILTO:westbourne-admin@westbourneforum.org.uk
END:VEVENT
BEGIN:VTIMEZONE
TZID:Europe/London
X-LIC-LOCATION:Europe/London
BEGIN:STANDARD
DTSTART:20241027T010000
TZOFFSETFROM:+0100
TZOFFSETTO:+0000
TZNAME:GMT
END:STANDARD
END:VTIMEZONE
END:VCALENDAR