BEGIN:VCALENDAR
VERSION:2.0
PRODID:-//wp-events-plugin.com//7.2.3.1//EN
TZID:Europe/London
X-WR-TIMEZONE:Europe/London
BEGIN:VEVENT
UID:1-14899@westbourneforum.org.uk
DTSTART;TZID=Europe/London:20241123T134500
DTEND;TZID=Europe/London:20241123T144500
DTSTAMP:20241121T052423Z
URL:https://westbourneforum.org.uk/events/chess-classes-2024-11-23/
SUMMARY:Chess Classes
DESCRIPTION:\n\nDear Parents\,\n\nWe’re excited to announce that our Ches
 s Club will be starting classes on 23.11.2024! &#x1f3c6\;&#x265f\;\n\nYou 
 can register using the following link: form.jotform.com/243116645854359\n\
 nWe can’t wait to welcome our young chess enthusiasts come to the board!
 \n\nBest regards\,\n64ChessClub
ATTACH;FMTTYPE=image/jpeg:https://i0.wp.com/westbourneforum.org.uk/wp-cont
 ent/uploads/2024/11/Chess-Club-at-NPYC-banner.webp?fit=800%2C445&ssl=1
LOCATION:North Paddington Youth Club\, 229 Lanark Road\, London\, England\,
  W9 1EA\, Westminster\, United Kingdom
GEO:51.53207;-0.187474
X-APPLE-STRUCTURED-LOCATION;VALUE=URI;X-ADDRESS=229 Lanark Road\, London\, 
 England\, W9 1EA\, Westminster\, United Kingdom;X-APPLE-RADIUS=100;X-TITLE
 =North Paddington Youth Club:geo:51.53207,-0.187474
ORGANIZER;CN="Westbourne Forum":MAILTO:westbourne-admin@westbourneforum.org.uk
END:VEVENT
BEGIN:VTIMEZONE
TZID:Europe/London
X-LIC-LOCATION:Europe/London
BEGIN:STANDARD
DTSTART:20241027T010000
TZOFFSETFROM:+0100
TZOFFSETTO:+0000
TZNAME:GMT
END:STANDARD
END:VTIMEZONE
END:VCALENDAR