BEGIN:VCALENDAR
VERSION:2.0
PRODID:-//wp-events-plugin.com//7.2.3.1//EN
TZID:Europe/London
X-WR-TIMEZONE:Europe/London
BEGIN:VEVENT
UID:1-5261@westbourneforum.org.uk
DTSTART;TZID=Europe/London:20230117T160000
DTEND;TZID=Europe/London:20230117T173000
DTSTAMP:20230131T205511Z
URL:https://westbourneforum.org.uk/events/change-4-life-kids-club-2023-01-
 17/
SUMMARY:Change 4 Life Kids' Club
DESCRIPTION:Our Change 4 Life Healthy Lifestyle Clubs provide free five-wee
 k programmes to support families in eating well and keeping active.\n\nCha
 nge 4 Life Kids' Clubs focus on simple\, enjoyable and achievable ways fam
 ilies can include physical activity and healthier eating into their everyd
 ay lives. The club provides children and families with engaging and fun ac
 tivities which support the child’s relationship with healthy eating\, ph
 ysical activity\, wellbeing\, oral health\, sleep and screen time.\n\nAll 
 participants receive a free recipe pack of food at the end of each session
 .
ATTACH;FMTTYPE=image/jpeg:https://i0.wp.com/westbourneforum.org.uk/wp-cont
 ent/uploads/2023/01/chefs3_2022-12-22-104920_tqur.webp?fit=800%2C445&ssl=1
LOCATION:Greenside Community Centre\,  24 Lilestone Street\, London\, Engla
 nd\, NW8 8SR\, Westminster\, United Kingdom
GEO:51.525228;-0.166276
X-APPLE-STRUCTURED-LOCATION;VALUE=URI;X-ADDRESS= 24 Lilestone Street\, Lond
 on\, England\, NW8 8SR\, Westminster\, United Kingdom;X-APPLE-RADIUS=100;X
 -TITLE=Greenside Community Centre:geo:51.525228,-0.166276
ORGANIZER;CN="Westbourne Forum":MAILTO:westbourne-admin@westbourneforum.org.uk
END:VEVENT
BEGIN:VTIMEZONE
TZID:Europe/London
X-LIC-LOCATION:Europe/London
BEGIN:STANDARD
DTSTART:20221030T010000
TZOFFSETFROM:+0100
TZOFFSETTO:+0000
TZNAME:GMT
END:STANDARD
END:VTIMEZONE
END:VCALENDAR