BEGIN:VCALENDAR
VERSION:2.0
PRODID:-//wp-events-plugin.com//7.2.3.1//EN
TZID:Europe/London
X-WR-TIMEZONE:Europe/London
BEGIN:VEVENT
UID:1-7149@westbourneforum.org.uk
DTSTART;TZID=Europe/London:20230810T123000
DTEND;TZID=Europe/London:20230810T133000
DTSTAMP:20230803T003655Z
URL:https://westbourneforum.org.uk/events/celebrate-carnival-at-paddington
 -central/
SUMMARY:Celebrate Carnival at Paddington Central
DESCRIPTION:
ATTACH;FMTTYPE=image/jpeg:https://i0.wp.com/westbourneforum.org.uk/wp-cont
 ent/uploads/2023/08/Celebrate-Carnival-at-Paddington-Central-header.jpg?fi
 t=1035%2C576&ssl=1
LOCATION:Paddington Central\,  Kingdom St\, London\, England\, W2 6BD\, Wes
 tminster\, United Kingdom
GEO:51.519112;-0.181704
X-APPLE-STRUCTURED-LOCATION;VALUE=URI;X-ADDRESS= Kingdom St\, London\, Engl
 and\, W2 6BD\, Westminster\, United Kingdom;X-APPLE-RADIUS=100;X-TITLE=Pad
 dington Central:geo:51.519112,-0.181704
ORGANIZER;CN="Westbourne Forum":MAILTO:westbourne-admin@westbourneforum.org.uk
END:VEVENT
BEGIN:VTIMEZONE
TZID:Europe/London
X-LIC-LOCATION:Europe/London
BEGIN:DAYLIGHT
DTSTART:20230326T020000
TZOFFSETFROM:+0000
TZOFFSETTO:+0100
TZNAME:BST
END:DAYLIGHT
END:VTIMEZONE
END:VCALENDAR