BEGIN:VCALENDAR
VERSION:2.0
PRODID:-//wp-events-plugin.com//7.2.3.1//EN
TZID:Europe/London
X-WR-TIMEZONE:Europe/London
BEGIN:VEVENT
UID:1-12340@westbourneforum.org.uk
DTSTART;TZID=Europe/London:20240816T090000
DTEND;TZID=Europe/London:20240816T150000
DTSTAMP:20240709T012212Z
URL:https://westbourneforum.org.uk/events/burdett-coutts-summer-camp-2024-
 2024-08-16/
SUMMARY:Burdett Coutts Summer Camp 2024
DESCRIPTION:We are delighted to be able to offer a safe\, fun and friendly 
 camp over the Summer break.\n\nAge: 5 – 11 years\n\nWHAT TO BRING:\n\n 	
 A water bottle\n 	Appropriate clothing for the weather and activities/phys
 ical activities\n 	A NUT FREE packed lunch if you are not having ours\n 
 	Snacks for the day\n\nACTIVITIES:\n\nThis Summer - every day is packed wi
 th adventure. From splashing water fights to arts and sports\, and special
  themed days like Superhero Day and Around the World Day—there’s endle
 ss fun to be had! Join us for the "Battle of the Camps\," where each camp 
 competes against each other in thrilling competitions. Campers will unleas
 h their creativity\, enhance their teamwork skills\, and make lifelong fri
 ends.\n\n(We like to ensure our camp is as child lead as possible\, this c
 an mean that the activities will differ at each camp based on the children
 's preferences.)\n\nJoin us for all this and more as you get to learn\, gr
 ow and move every single day you spend with us at camp. As well as continu
 ing the camp experience even once the day has ended\, bringing home fun fa
 cts\, handcrafted artwork and even a few new moves!\n\nGET IN CONTACT:\n\n
 EMAIL: schoolcampinfo@ourparks.org.uk\n\nPHONE: 073 0629 7789 (Call or 
 Text Message)\n\n(During our busy periods\, please expect a reply in up to
  two working days. To ensure the team can best help you\, please include t
 he camp you are looking to book onto and if you are looking to access a fu
 nded place into your enquiry.)\n\nBooking and Further Details\n\nschoolcam
 ps.org
ATTACH;FMTTYPE=image/jpeg:https://i0.wp.com/westbourneforum.org.uk/wp-cont
 ent/uploads/2024/07/Burdett-Coutts-Summer-Camp-2024-banner.webp?fit=800%2C
 445&ssl=1
LOCATION:Burdett-Coutts CE Primary School\, Rochester Street\, London\, Eng
 land\, SW1P 2QQ\, Westminster\, United Kingdom
GEO:51.495114;-0.135028
X-APPLE-STRUCTURED-LOCATION;VALUE=URI;X-ADDRESS=Rochester Street\, London\,
  England\, SW1P 2QQ\, Westminster\, United Kingdom;X-APPLE-RADIUS=100;X-TI
 TLE=Burdett-Coutts CE Primary School:geo:51.495114,-0.135028
ORGANIZER;CN="Westbourne Forum":MAILTO:westbourne-admin@westbourneforum.org.uk
END:VEVENT
BEGIN:VTIMEZONE
TZID:Europe/London
X-LIC-LOCATION:Europe/London
BEGIN:DAYLIGHT
DTSTART:20240331T020000
TZOFFSETFROM:+0000
TZOFFSETTO:+0100
TZNAME:BST
END:DAYLIGHT
END:VTIMEZONE
END:VCALENDAR