BEGIN:VCALENDAR
VERSION:2.0
PRODID:-//wp-events-plugin.com//7.2.3.1//EN
TZID:Europe/London
X-WR-TIMEZONE:Europe/London
BEGIN:VEVENT
UID:1-16657@westbourneforum.org.uk
DTSTART;TZID=Europe/London:20250411T093000
DTEND;TZID=Europe/London:20250411T173000
DTSTAMP:20250410T034925Z
URL:https://westbourneforum.org.uk/events/brainspark-camps-2025-04-11/
SUMMARY:Brainspark Camps
DESCRIPTION:Brainspark Camps is a ‘Change4Life’ award winning organi
 sation\, offering FREE HAF holiday camps across London. We enhance mental\
 , physical and emotional wellbeing through a unique range of fun\, action-
 packed\, high quality activities designed to engage neurodiverse and neuro
 typical children from all walks of life\;\n\nHealth Food &amp\; Nutrition:
  hot meals\, cooking\, portion plates\, fresh fruit and raw vegetables wi
 th lots of water throughout!\n\nSports &amp\; wellbeing: fencing\, archer
 y\, skateboarding\, tennis\, ball games\, racquet sports\, rounders\, free
  play\, yoga\, meditation\n\nSTEM &amp\; Educational Mobile Games: scienc
 e kits\, Lego Robotics\, playtest proprietary History/ English/Climate edu
 cational mobile games connecting virtual with real world!\n\nNature &amp\;
  Climate action: bug pets\, gardening\, nature discovery walks\, park pic
 nics\, build-a-bug-hotel\, climate game activating real world climate acti
 on\n\nArts &amp\; crafts: drawing\, painting\, digital design\, candle ma
 king\, soap making\, origami\,\n\nModel making &amp\; Board games: Life s
 ize ‘Connect4’ &amp\; ‘Snakes &amp\; Ladders’\, as well as Lego\, 
 clay\, model making\n\nCultural Enrichment: Bekonscot Model Village\, Gar
 rick Theatre\, Unicorn Theatre\, Design Museum\, Winter Wonderland\, Hyde 
 Park Pirate Ship\, bowling\,\n\nAges 5 - 11\n\nSEND friendly\nWe have some
  training or experience of Special Educational Needs &amp\; Disabilities a
 nd are able to accommodate children with low-level needs\, we do not offer
  1:1. Contact us to discuss how we can support your child.\n\nBooking and 
 further details\n\nwww.brainsparkgames.com/camps\ncamps@brainsparkgames.co
 m\n020 3826 0051 or 07563 248 550\n\n
ATTACH;FMTTYPE=image/jpeg:https://i0.wp.com/westbourneforum.org.uk/wp-cont
 ent/uploads/2025/03/Our-City-WCC-2025-banner.webp?fit=800%2C445&ssl=1
LOCATION:The Stowe Centre\, 258 Harrow Road\, Westminster\, London\, W2 5ES
 \, England\, United Kingdom
GEO:51.520203;-0.190324
X-APPLE-STRUCTURED-LOCATION;VALUE=URI;X-ADDRESS=258 Harrow Road\, Westminst
 er\, London\, W2 5ES\, England\, United Kingdom;X-APPLE-RADIUS=100;X-TITLE
 =The Stowe Centre:geo:51.520203,-0.190324
ORGANIZER;CN="Westbourne Forum":MAILTO:westbourne-admin@westbourneforum.org.uk
END:VEVENT
BEGIN:VTIMEZONE
TZID:Europe/London
X-LIC-LOCATION:Europe/London
BEGIN:DAYLIGHT
DTSTART:20250330T020000
TZOFFSETFROM:+0000
TZOFFSETTO:+0100
TZNAME:BST
END:DAYLIGHT
END:VTIMEZONE
END:VCALENDAR