BEGIN:VCALENDAR
VERSION:2.0
PRODID:-//wp-events-plugin.com//7.2.3.1//EN
TZID:Europe/London
X-WR-TIMEZONE:Europe/London
BEGIN:VEVENT
UID:1-8422@westbourneforum.org.uk
DTSTART;TZID=Europe/London:20231211T170000
DTEND;TZID=Europe/London:20231211T170000
DTSTAMP:20231120T051533Z
URL:https://westbourneforum.org.uk/events/boxing-club-6-13-year-olds-2023-
 12-11/
SUMMARY:Treasure Boxing Club for 6 - 13 year olds
DESCRIPTION:\n\nwww.treasureboxingclub.com\n\n
ATTACH;FMTTYPE=image/jpeg:https://i0.wp.com/westbourneforum.org.uk/wp-cont
 ent/uploads/2023/10/IMG_5433-banner.webp?fit=1282%2C713&ssl=1
LOCATION:W.E.C.H. Community Centre\, 36A Elgin Avenue\, London\, England\, 
 W9 3AZ\, Westminster\, United Kingdom
GEO:51.524548;-0.199449
X-APPLE-STRUCTURED-LOCATION;VALUE=URI;X-ADDRESS=36A Elgin Avenue\, London\,
  England\, W9 3AZ\, Westminster\, United Kingdom;X-APPLE-RADIUS=100;X-TITL
 E=W.E.C.H. Community Centre:geo:51.524548,-0.199449
ORGANIZER;CN="Westbourne Forum":MAILTO:westbourne-admin@westbourneforum.org.uk
END:VEVENT
BEGIN:VTIMEZONE
TZID:Europe/London
X-LIC-LOCATION:Europe/London
BEGIN:STANDARD
DTSTART:20231029T010000
TZOFFSETFROM:+0100
TZOFFSETTO:+0000
TZNAME:GMT
END:STANDARD
END:VTIMEZONE
END:VCALENDAR