BEGIN:VCALENDAR
VERSION:2.0
PRODID:-//wp-events-plugin.com//7.2.3.1//EN
TZID:Europe/London
X-WR-TIMEZONE:Europe/London
BEGIN:VEVENT
UID:1-10363@westbourneforum.org.uk
DTSTART;TZID=Europe/London:20240626T161500
DTEND;TZID=Europe/London:20240626T171500
DTSTAMP:20240214T034258Z
URL:https://westbourneforum.org.uk/events/boxing-club-2024-06-26/
SUMMARY:Boxing Club
DESCRIPTION:\n\nwww.instagram.com/Hurdles2Hoops\n\nwww.instagram.com/jncfit
 ness_ldn\n\n
ATTACH;FMTTYPE=image/jpeg:https://i0.wp.com/westbourneforum.org.uk/wp-cont
 ent/uploads/2024/02/boxing-club-banner-2.webp?fit=800%2C445&ssl=1
LOCATION:JNC Fitness\, 31 Elkstone Road\, London\, England\, W10 5NT\, Kens
 ington and Chelsea\, United Kingdom
GEO:51.522228;-0.203126
X-APPLE-STRUCTURED-LOCATION;VALUE=URI;X-ADDRESS=31 Elkstone Road\, London\,
  England\, W10 5NT\, Kensington and Chelsea\, United Kingdom;X-APPLE-RADIU
 S=100;X-TITLE=JNC Fitness:geo:51.522228,-0.203126
ORGANIZER;CN="Westbourne Forum":MAILTO:westbourne-admin@westbourneforum.org.uk
END:VEVENT
BEGIN:VTIMEZONE
TZID:Europe/London
X-LIC-LOCATION:Europe/London
BEGIN:DAYLIGHT
DTSTART:20240331T020000
TZOFFSETFROM:+0000
TZOFFSETTO:+0100
TZNAME:BST
END:DAYLIGHT
END:VTIMEZONE
END:VCALENDAR