BEGIN:VCALENDAR
VERSION:2.0
PRODID:-//wp-events-plugin.com//7.2.3.1//EN
TZID:Europe/London
X-WR-TIMEZONE:Europe/London
BEGIN:VEVENT
UID:1-5511@westbourneforum.org.uk
DTSTART;TZID=Europe/London:20230216T100000
DTEND;TZID=Europe/London:20230216T150000
DTSTAMP:20230202T033330Z
URL:https://westbourneforum.org.uk/events/bloomsbury-football-holiday-camp
 -2023-02-16/
SUMMARY:Bloomsbury football holiday camp - St John's Wood
DESCRIPTION:*PLEASE NOTE: This project is part of the February Half Term ac
 tivities\, funded by Westminster City Council\n\nBloomsbury football is ba
 ck at Harris Academy St. John’s Wood this half-term to host another fun 
 and engaging football camp for all skill levels.\n\nThe camp will run Mond
 ay\, Wednesday\, Thursday and Friday of the first week of the half-term wh
 ere each day focuses on a different skill in football culminating in a tou
 rnament day on Friday.\n\nBook your child a place through our website (lin
 k provided) to confirm their place. Our high-quality and energetic coaches
  are looking forward to welcoming back some familiar faces and hopefully m
 eeting some new players!\n\nDetails of free meal provided: A meal at lunch
  each day with halal and vegetarian options available.\n\nNearest bus stop
 : Boundary Road Finchley Road (Stop V)\n\nNearest tube stop: St. John’s 
 Wood or South Hampstead\n\nContact email: holidays@bloomsburyfootball.com\
 n\nContact phone number: 07724 608 600\n\n*Cost for non-Free School Meals 
 Children and Young People: £50 per day (financial assistance is available
 )\n\nBooking required\n\nourcity.org.uk/projects/details/bloomsbury-footba
 ll-holiday-camp\n\nbloomsburyfootball.com/product/february-half-term-holid
 ay-camps-harris-academy/\n\n&nbsp\;\n\n&nbsp\;
ATTACH;FMTTYPE=image/jpeg:https://i0.wp.com/westbourneforum.org.uk/wp-cont
 ent/uploads/2023/02/Bloomsbury-football-holiday-camp.webp?fit=800%2C445&ss
 l=1
LOCATION:Harris Academy - St. John's Wood\, St. John’s Wood\, Marlborough
  Hill\, London\, England\, NW8 0NL\, Westminster\, United Kingdom
GEO:51.537835;-0.176685
X-APPLE-STRUCTURED-LOCATION;VALUE=URI;X-ADDRESS=St. John’s Wood\, Marlbor
 ough Hill\, London\, England\, NW8 0NL\, Westminster\, United Kingdom;X-AP
 PLE-RADIUS=100;X-TITLE=Harris Academy - St. John's Wood:geo:51.537835,-0.1
 76685
ORGANIZER;CN="Westbourne Forum":MAILTO:westbourne-admin@westbourneforum.org.uk
END:VEVENT
BEGIN:VTIMEZONE
TZID:Europe/London
X-LIC-LOCATION:Europe/London
BEGIN:STANDARD
DTSTART:20221030T010000
TZOFFSETFROM:+0100
TZOFFSETTO:+0000
TZNAME:GMT
END:STANDARD
END:VTIMEZONE
END:VCALENDAR