BEGIN:VCALENDAR
VERSION:2.0
PRODID:-//wp-events-plugin.com//7.2.3.1//EN
TZID:Europe/London
X-WR-TIMEZONE:Europe/London
BEGIN:VEVENT
UID:1-10013@westbourneforum.org.uk
DTSTART;TZID=Europe/London:20240212T100000
DTEND;TZID=Europe/London:20240212T150000
DTSTAMP:20240201T045641Z
URL:https://westbourneforum.org.uk/events/bloomsbury-football-february-hal
 f-term-camp-2024-02-12/
SUMMARY:Bloomsbury Football February Half-Term Camp
DESCRIPTION:Bloomsbury Football Camp is back at Harris Academy St. John's W
 ood for this February Half-Term! Building on a successful summer\, our inc
 lusive football camp aims to develop and maintain the foundations of footb
 all while providing kids the chance stay physically active and have fun du
 ring the school holidays.\n\nWe our proud to be able to offer this camp fo
 r free with a lunch provided for students eligible for income-based free s
 chool meals (pupil premium). If eligible\, use the code 'febfsm' at checko
 ut on our website (see the sign up link) to sign up for free.\n\nWe look f
 orward to seeing you this half-term!\n\nSEND Friendly\nWe offer some 1:1 s
 upport for children with Special Educational Needs &amp\; Disabilities at 
 this programme. Contact us to discuss how we can support your child.\n\nAg
 es 7 - 15\n\nBooking\n\nTel: 07724 608 600\n\nEmail: holidays@bloomsburyfo
 otball.com\n\n&nbsp\;
ATTACH;FMTTYPE=image/jpeg:https://i0.wp.com/westbourneforum.org.uk/wp-cont
 ent/uploads/2024/02/Bloomsbury-Football-February-Half-Term-Camp-banner.web
 p?fit=800%2C445&ssl=1
LOCATION:Harris Academy - St. John's Wood\, St. John’s Wood\, Marlborough
  Hill\, London\, England\, NW8 0NL\, Westminster\, United Kingdom
GEO:51.537835;-0.176685
X-APPLE-STRUCTURED-LOCATION;VALUE=URI;X-ADDRESS=St. John’s Wood\, Marlbor
 ough Hill\, London\, England\, NW8 0NL\, Westminster\, United Kingdom;X-AP
 PLE-RADIUS=100;X-TITLE=Harris Academy - St. John's Wood:geo:51.537835,-0.1
 76685
ORGANIZER;CN="Westbourne Forum":MAILTO:westbourne-admin@westbourneforum.org.uk
END:VEVENT
BEGIN:VTIMEZONE
TZID:Europe/London
X-LIC-LOCATION:Europe/London
BEGIN:STANDARD
DTSTART:20231029T010000
TZOFFSETFROM:+0100
TZOFFSETTO:+0000
TZNAME:GMT
END:STANDARD
END:VTIMEZONE
END:VCALENDAR