BEGIN:VCALENDAR
VERSION:2.0
PRODID:-//wp-events-plugin.com//7.2.3.1//EN
TZID:Europe/London
X-WR-TIMEZONE:Europe/London
BEGIN:VEVENT
UID:1-8410@westbourneforum.org.uk
DTSTART;TZID=Europe/London:20231024T100000
DTEND;TZID=Europe/London:20231024T140000
DTSTAMP:20231003T013450Z
URL:https://westbourneforum.org.uk/events/black-history-storytelling-and-m
 usic-2023-10-24/
SUMMARY:Black History Storytelling and Music
DESCRIPTION:\n\nBack again! Free holiday club for families ON FREE SCHOOL 
 MEALS (PUPIL PREMIUM) ONLY\, who live nearby.\n\n(Queen's Park\, Harrow R
 oad\, Westbourne)\n\nDelicious cooked food\n\nEnjoy entertainment\, Crafts
 \, Kids Karaoke\, Football\, Table tennis\, Toys\, Games and parents chat\
 , Storytelling Music and FUN!\n\nBooking\n\n
ATTACH;FMTTYPE=image/jpeg:https://i0.wp.com/westbourneforum.org.uk/wp-cont
 ent/uploads/2023/10/Black-History-Storytelling-and-Music.webp?fit=1077%2C5
 99&ssl=1
LOCATION:Lydford Community Hall\, 74 Fernhead Road\, London\, England\, W9 
 3EY\, United Kingdom
GEO:51.52842;-0.201644
X-APPLE-STRUCTURED-LOCATION;VALUE=URI;X-ADDRESS=74 Fernhead Road\, London\,
  England\, W9 3EY\, United Kingdom;X-APPLE-RADIUS=100;X-TITLE=Lydford Comm
 unity Hall:geo:51.52842,-0.201644
ORGANIZER;CN="Westbourne Forum":MAILTO:westbourne-admin@westbourneforum.org.uk
END:VEVENT
BEGIN:VTIMEZONE
TZID:Europe/London
X-LIC-LOCATION:Europe/London
BEGIN:DAYLIGHT
DTSTART:20230326T020000
TZOFFSETFROM:+0000
TZOFFSETTO:+0100
TZNAME:BST
END:DAYLIGHT
END:VTIMEZONE
END:VCALENDAR