BEGIN:VCALENDAR
VERSION:2.0
PRODID:-//wp-events-plugin.com//7.2.3.1//EN
TZID:Europe/London
X-WR-TIMEZONE:Europe/London
BEGIN:VEVENT
UID:1-19601@westbourneforum.org.uk
DTSTART;TZID=Europe/London:20251101T173000
DTEND;TZID=Europe/London:20251101T200000
DTSTAMP:20251004T012133Z
URL:https://westbourneforum.org.uk/events/black-history-month-25-queens-pa
 rk-annual-gala/
SUMMARY:Black History Month '25 Queen's Park: Annual Gala
DESCRIPTION:\nQueen's Park Community Council invites you to our annual Gala
  evening as we celebrate Black History Month 2025!\nThis year's theme\, St
 anding Firm in Power &amp\; Pride\, honours the strength\, resilience\, an
 d unwavering dignity found throughout Black histories and cultures.\n- Sat
 urday 1st November\n- 5:30-8:30 PM\n- Beethoven Centre\nBook via the QPCC 
 website: https://queensparkcommunitycouncil.gov.uk/event/black-history-mon
 th-2025-gala/\n2025's Black History Month Annual Gala promises an enrichin
 g experience featuring powerful spoken word and storytelling\, soulful mus
 ic and a warm and welcoming space for all — and complemented by wonderfu
 l food shared among our diverse community.\nThis will be an evening of cel
 ebration\, culture\, and meaningful connection as we uplift the stories an
 d contributions that continue to shape our shared heritage.\nPlease note: 
 Due to limited capacity\, priority will be given to residents of Queen's P
 ark\, Harrow Road\, and Westbourne wards for this event. Submitting the re
 quest form does not guarantee registration. Please allow a few days to rec
 eive an email confirming your registration status or informing you if you'
 ve been placed on the waiting list.\nEmail | Phone | Website | Facebook | 
 X / Twitter | Instagram\n\n
ATTACH;FMTTYPE=image/jpeg:https://i0.wp.com/westbourneforum.org.uk/wp-cont
 ent/uploads/2025/10/BHM25-Gala-Poster-banner.webp?fit=1450%2C807&ssl=1
LOCATION:Beethoven Centre\, Third Avenue\, Queen's Park\, England\, W10 4JL
 \, Westminster\, United Kingdom
GEO:51.530701;-0.208573
X-APPLE-STRUCTURED-LOCATION;VALUE=URI;X-ADDRESS=Third Avenue\, Queen's Park
 \, England\, W10 4JL\, Westminster\, United Kingdom;X-APPLE-RADIUS=100;X-T
 ITLE=Beethoven Centre:geo:51.530701,-0.208573
ORGANIZER;CN="Westbourne Forum":MAILTO:westbourne-admin@westbourneforum.org.uk
END:VEVENT
BEGIN:VTIMEZONE
TZID:Europe/London
X-LIC-LOCATION:Europe/London
BEGIN:STANDARD
DTSTART:20251026T010000
TZOFFSETFROM:+0100
TZOFFSETTO:+0000
TZNAME:GMT
END:STANDARD
END:VTIMEZONE
END:VCALENDAR