BEGIN:VCALENDAR
VERSION:2.0
PRODID:-//wp-events-plugin.com//7.2.3.1//EN
TZID:Europe/London
X-WR-TIMEZONE:Europe/London
BEGIN:VEVENT
UID:1-6965@westbourneforum.org.uk
DTSTART;TZID=Europe/London:20230902T140000
DTEND;TZID=Europe/London:20230902T160000
DTSTAMP:20230727T004237Z
URL:https://westbourneforum.org.uk/events/basketball-for-young-people-and-
 their-friends-3-2023-09-02/
SUMMARY:Basketball For Young People And Their Friends
DESCRIPTION:Come along and join us twice a week for some basketball trainin
 g and games with young people from the local Bangladeshi/Black communities
 \, as well as their friends from school and college\, from the nearby esta
 tes of Churchill Gardens and Peabody Pimlico.\n\nDetails of free meal prov
 ided: Free healthy food\n\nNearest bus stop: Westmoreland Terrace (E)\nNea
 rest tube stop: Victoria/Pimlico\n\nContact email: info@sport4health.co.uk
 \nContact phone number: 07768 076 459\n\nBooking required.\n\nHAF project 
 page\n\nProvider
ATTACH;FMTTYPE=image/jpeg:https://i0.wp.com/westbourneforum.org.uk/wp-cont
 ent/uploads/2023/07/Screen-Shot-2022-10-13-at-13.25.15-header.webp?fit=800
 %2C445&ssl=1
LOCATION:Peabody Pimlico Estate ( outdoor basketball pitch )\, Turpentine L
 ane\, London\, England\, SW1V 4BD\, Westminster\, United Kingdom
GEO:51.486519;-0.145965
X-APPLE-STRUCTURED-LOCATION;VALUE=URI;X-ADDRESS=Turpentine Lane\, London\, 
 England\, SW1V 4BD\, Westminster\, United Kingdom;X-APPLE-RADIUS=100;X-TIT
 LE=Peabody Pimlico Estate ( outdoor basketball pitch ):geo:51.486519,-0.14
 5965
ORGANIZER;CN="Westbourne Forum":MAILTO:westbourne-admin@westbourneforum.org.uk
END:VEVENT
BEGIN:VTIMEZONE
TZID:Europe/London
X-LIC-LOCATION:Europe/London
BEGIN:DAYLIGHT
DTSTART:20230326T020000
TZOFFSETFROM:+0000
TZOFFSETTO:+0100
TZNAME:BST
END:DAYLIGHT
END:VTIMEZONE
END:VCALENDAR