BEGIN:VCALENDAR
VERSION:2.0
PRODID:-//wp-events-plugin.com//7.2.3.1//EN
TZID:Europe/London
X-WR-TIMEZONE:Europe/London
BEGIN:VEVENT
UID:1-5488@westbourneforum.org.uk
DTSTART;TZID=Europe/London:20230211T100000
DTEND;TZID=Europe/London:20230211T150000
DTSTAMP:20230202T025255Z
URL:https://westbourneforum.org.uk/events/basketball-for-young-people-and-
 their-friends-2023-02-11/
SUMMARY:Basketball for young people and their friends
DESCRIPTION:*Times may vary\n\n*PLEASE NOTE: This project is part of the Fe
 bruary Half Term activities\, funded by Westminster City Council\n\nCome a
 long and join us twice a week for some basketball training and games with 
 young people from the local Bangladeshi/Black communities\, as well as the
 ir friends from school and college\, from the nearby estates of Churchill 
 Gardens and Peabody Pimlico.\n\nDetails of free meal provided: Free health
 y food\n\nNearest bus stop: Westmoreland Terrace (E)\nNearest tube stop: V
 ictoria/Pimlico\n\nContact email: info@sport4health.co.uk\nContact phone n
 umber: 07768 076 459\n\nBooking required\n\nsport4health.co.uk/\n\n&nbsp\;
ATTACH;FMTTYPE=image/jpeg:https://i0.wp.com/westbourneforum.org.uk/wp-cont
 ent/uploads/2023/02/Basketball-for-young-people-and-their-friends.webp?fit
 =800%2C445&ssl=1
LOCATION:Peabody Pimlico Estate ( outdoor basketball pitch )\, Turpentine L
 ane\, London\, England\, SW1V 4BD\, Westminster\, United Kingdom
GEO:51.486519;-0.145965
X-APPLE-STRUCTURED-LOCATION;VALUE=URI;X-ADDRESS=Turpentine Lane\, London\, 
 England\, SW1V 4BD\, Westminster\, United Kingdom;X-APPLE-RADIUS=100;X-TIT
 LE=Peabody Pimlico Estate ( outdoor basketball pitch ):geo:51.486519,-0.14
 5965
ORGANIZER;CN="Westbourne Forum":MAILTO:westbourne-admin@westbourneforum.org.uk
END:VEVENT
BEGIN:VTIMEZONE
TZID:Europe/London
X-LIC-LOCATION:Europe/London
BEGIN:STANDARD
DTSTART:20221030T010000
TZOFFSETFROM:+0100
TZOFFSETTO:+0000
TZNAME:GMT
END:STANDARD
END:VTIMEZONE
END:VCALENDAR