BEGIN:VCALENDAR
VERSION:2.0
PRODID:-//wp-events-plugin.com//7.2.3.1//EN
TZID:Europe/London
X-WR-TIMEZONE:Europe/London
BEGIN:VEVENT
UID:1-12092@westbourneforum.org.uk
DTSTART;TZID=Europe/London:20240716T130000
DTEND;TZID=Europe/London:20240716T150000
DTSTAMP:20240611T211410Z
URL:https://westbourneforum.org.uk/events/banquet-for-all-2024-07-16/
SUMMARY:Banquet For All
DESCRIPTION:\n\n079 8372 5524\n\ninfo@wpfc.uk
ATTACH;FMTTYPE=image/jpeg:https://i0.wp.com/westbourneforum.org.uk/wp-cont
 ent/uploads/2024/06/Banquet-For-All-banner-2.webp?fit=753%2C419&ssl=1
LOCATION:Westbourne Park Baptist Church\, Porchester Road\, London\, Englan
 d\, W2 5DX\, Westminster\, United Kingdom
GEO:51.518639;-0.189492
X-APPLE-STRUCTURED-LOCATION;VALUE=URI;X-ADDRESS=Porchester Road\, London\, 
 England\, W2 5DX\, Westminster\, United Kingdom;X-APPLE-RADIUS=100;X-TITLE
 =Westbourne Park Baptist Church:geo:51.518639,-0.189492
ORGANIZER;CN="Westbourne Forum":MAILTO:westbourne-admin@westbourneforum.org.uk
END:VEVENT
BEGIN:VTIMEZONE
TZID:Europe/London
X-LIC-LOCATION:Europe/London
BEGIN:DAYLIGHT
DTSTART:20240331T020000
TZOFFSETFROM:+0000
TZOFFSETTO:+0100
TZNAME:BST
END:DAYLIGHT
END:VTIMEZONE
END:VCALENDAR