BEGIN:VCALENDAR
VERSION:2.0
PRODID:-//wp-events-plugin.com//7.2.3.1//EN
TZID:Europe/London
X-WR-TIMEZONE:Europe/London
BEGIN:VEVENT
UID:1-10066@westbourneforum.org.uk
DTSTART;TZID=Europe/London:20240211T100000
DTEND;TZID=Europe/London:20240211T160000
DTSTAMP:20240202T023321Z
URL:https://westbourneforum.org.uk/events/badminton-for-young-people-2024-
 02-11/
SUMMARY:Badminton with Sport4Health
DESCRIPTION:PLEASE NOTE: This project is part of Westminster City Council
 ’s extended summer activity programme\, for children and young people li
 ving in Westminster ( aged 0 - 25 )\n\nCome along and join us twice a week
  for some fun badminton with other kids and their friends from school and 
 college.\n\nNearest bus stop: Winchester Street (N or C)\nNearest tube sto
 p: Victoria/Pimlico\n\nContact email: info@sport4health.co.uk\nContact pho
 ne number: 07768 076 459\n\nBooking required.
ATTACH;FMTTYPE=image/jpeg:https://i0.wp.com/westbourneforum.org.uk/wp-cont
 ent/uploads/2024/02/Badminton-For-Young-People-banner.webp?fit=800%2C445&s
 sl=1
LOCATION:St. Gabriel’s Parish House\, Glasgow Terrace\, London\, England\
 , SW1V 3AA\, Westminster\, United Kingdom
GEO:51.48634;-0.142573
X-APPLE-STRUCTURED-LOCATION;VALUE=URI;X-ADDRESS=Glasgow Terrace\, London\, 
 England\, SW1V 3AA\, Westminster\, United Kingdom;X-APPLE-RADIUS=100;X-TIT
 LE=St. Gabriel’s Parish House:geo:51.48634,-0.142573
ORGANIZER;CN="Westbourne Forum":MAILTO:westbourne-admin@westbourneforum.org.uk
END:VEVENT
BEGIN:VTIMEZONE
TZID:Europe/London
X-LIC-LOCATION:Europe/London
BEGIN:STANDARD
DTSTART:20231029T010000
TZOFFSETFROM:+0100
TZOFFSETTO:+0000
TZNAME:GMT
END:STANDARD
END:VTIMEZONE
END:VCALENDAR