BEGIN:VCALENDAR
VERSION:2.0
PRODID:-//wp-events-plugin.com//7.2.3.1//EN
TZID:Europe/London
X-WR-TIMEZONE:Europe/London
BEGIN:VEVENT
UID:1-7668@westbourneforum.org.uk
DTSTART;TZID=Europe/London:20231206T193000
DTEND;TZID=Europe/London:20231206T193000
DTSTAMP:20230909T193551Z
URL:https://westbourneforum.org.uk/events/ayla-schafer-honour-the-water-li
 ve-in-london/
SUMMARY:Ayla Schafer - Honour the Water – Live in London
DESCRIPTION:The multi-lingual world folk singer-songwriter brings her stunn
 ing repertoire of original poetic songs with traditional and tribal music 
 to the stage.\n\nPresented by Medicine Festival\n\nFrom £32 + booking fee
 \n\nFurther informationa and booking
ATTACH;FMTTYPE=image/jpeg:https://i0.wp.com/westbourneforum.org.uk/wp-cont
 ent/uploads/2023/09/AYla-Schafer-Honour-the-Water-%E2%80%93-Live-in-London
 -banner.webp?fit=1170%2C651&ssl=1
LOCATION:Grand Junction\, St Mary Magdalene Church\, Rowington Close\, West
 minster\, London\, W2 5TF\, England\, United Kingdom
GEO:51.5224;-0.188497
X-APPLE-STRUCTURED-LOCATION;VALUE=URI;X-ADDRESS=St Mary Magdalene Church\, 
 Rowington Close\, Westminster\, London\, W2 5TF\, England\, United Kingdom
 ;X-APPLE-RADIUS=100;X-TITLE=Grand Junction:geo:51.5224,-0.188497
ORGANIZER;CN="Westbourne Forum":MAILTO:westbourne-admin@westbourneforum.org.uk
END:VEVENT
BEGIN:VTIMEZONE
TZID:Europe/London
X-LIC-LOCATION:Europe/London
BEGIN:STANDARD
DTSTART:20231029T010000
TZOFFSETFROM:+0100
TZOFFSETTO:+0000
TZNAME:GMT
END:STANDARD
END:VTIMEZONE
END:VCALENDAR